BEGIN:VCALENDAR
VERSION:2.0
PRODID:-//ChamberMaster//Event Calendar 2.0//EN
METHOD:PUBLISH
X-PUBLISHED-TTL:P3D
REFRESH-INTERVAL:P3D
CALSCALE:GREGORIAN
BEGIN:VEVENT
DTSTART:20100218T220000Z
DTEND:20100219T010000Z
X-MICROSOFT-CDO-ALLDAYEVENT:FALSE
SUMMARY:Food & Wine Tasting at Reidsville Florist & Gifts
DESCRIPTION:Food & Wine TastingThursday\, February 18\, 20105:00-8:00 p.m.featuring wines from Tryon DistributingReidsville Florist & Gifts119 S. Scales St.\, Reidsvillewww.reidsvilleflorist.com336-342-0809
X-ALT-DESC;FMTTYPE=text/html:<div><font face="DorchesterScriptMT" size="7"><font face="DorchesterScriptMT" size="7"><p style="text-align: center"><strong><span style="font-size: medium"><span style="font-size: large"><span style="font-size: xx-large"><span style="color: #993366"><em><span style="font-family: Comic Sans MS">Food &amp\; Wine Tasting</span></em></span></span></span></span></strong></p><p style="text-align: center"><strong><span style="font-size: medium"><span style="font-size: large">Thursday\, February 18\, 2010</span></span></strong></p><p style="text-align: center"><strong><span style="font-size: medium"><span style="font-size: large">5:00-8:00 p.m.</span></span></strong></p><p style="text-align: center"><strong><span style="font-size: medium"><span style="font-size: large">featuring wines from Tryon Distributing</span></span></strong></p><p style="text-align: center"><strong><span style="font-size: medium"><span style="font-size: large">Reidsville Florist &amp\; Gifts</span></span></strong></p><p style="text-align: center"><strong><span style="font-size: medium"><span style="font-size: large">119 S. Scales St.\, Reidsville</span></span></strong></p><p style="text-align: center"><strong><span style="font-size: medium"><span style="font-size: large"><a href="http://www.reidsvilleflorist.com">www.reidsvilleflorist.com</a></span></span></strong></p><p style="text-align: center"><strong><span style="font-size: medium"><span style="font-size: large">336-342-0809</span></span></strong></p></font></font></div>
LOCATION:
UID:e.111.1326
SEQUENCE:3
DTSTAMP:20260424T170834Z
URL:https://business.reidsvillechamber.org/events/details/food-wine-tasting-at-reidsville-florist-gifts-02-18-2010-1326
END:VEVENT

END:VCALENDAR
