BEGIN:VCALENDAR
VERSION:2.0
PRODID:-//ChamberMaster//Event Calendar 2.0//EN
METHOD:PUBLISH
X-PUBLISHED-TTL:P3D
REFRESH-INTERVAL:P3D
CALSCALE:GREGORIAN
BEGIN:VEVENT
DTSTART:20101111T140000Z
DTEND:20101111T170000Z
X-MICROSOFT-CDO-ALLDAYEVENT:FALSE
SUMMARY:Foot Analysis Day at Carolina Apothecary
DESCRIPTION:FREE iStep analysis\, in 30 seconds- capture foot types\, pressure points & shoe size. *Recommended for anyone!
X-ALT-DESC;FMTTYPE=text/html:FREE iStep analysis\, in 30 seconds- capture foot types\, pressure points &amp\; shoe size. *Recommended for anyone!
LOCATION:Carolina Apothecary\, 726 S. Scales Street\, Reidsville
UID:e.111.1543
SEQUENCE:3
DTSTAMP:20260424T022835Z
URL:https://business.reidsvillechamber.org/events/details/foot-analysis-day-at-carolina-apothecary-11-11-2010-1543
END:VEVENT

END:VCALENDAR
