BEGIN:VCALENDAR
VERSION:2.0
PRODID:-//ChamberMaster//Event Calendar 2.0//EN
METHOD:PUBLISH
X-PUBLISHED-TTL:P3D
REFRESH-INTERVAL:P3D
CALSCALE:GREGORIAN
BEGIN:VEVENT
DTSTART:20101018T213000Z
DTEND:20101018T230000Z
X-MICROSOFT-CDO-ALLDAYEVENT:FALSE
SUMMARY:Free Cervical Cancer Screening at Annie Penn Hospital
DESCRIPTION:FREE Cervical Cancer Screening -  Open to women 18 of age or older.   Free pap smear screenings for women who cannot afford to see their physician and women who do not have a regular physician or who have not had a pap smear within the last 12 months.
X-ALT-DESC;FMTTYPE=text/html:FREE Cervical Cancer Screening -  Open to women 18 of age or older.   Free pap smear screenings for women who cannot afford to see their physician and women who do not have a regular physician or who have not had a pap smear within the last 12 months.  
LOCATION:Annie Penn Hospital - 4th Floor Specialty Clinics 618 S. Main St.\, Reidsville\, NC
UID:e.111.373
SEQUENCE:3
DTSTAMP:20260424T053641Z
URL:https://business.reidsvillechamber.org/events/details/free-cervical-cancer-screening-at-annie-penn-hospital-10-18-2010-373
END:VEVENT

END:VCALENDAR
