BEGIN:VCALENDAR
VERSION:2.0
PRODID:-//ChamberMaster//Event Calendar 2.0//EN
METHOD:PUBLISH
X-PUBLISHED-TTL:P3D
REFRESH-INTERVAL:P3D
CALSCALE:GREGORIAN
BEGIN:VEVENT
DTSTART:20120428T130000Z
DTEND:20120428T143000Z
X-MICROSOFT-CDO-ALLDAYEVENT:FALSE
SUMMARY:Free Community Shred-It Day
DESCRIPTION:Free Community Shred-It Day\n\n	\n\n	Saturday\, April 28th\n\n	9am - 10:30 am\n\n	\n\n	618 N. Scales Street\n\n	Reidsville\, NC\n\n	\n\n	Click Here
X-ALT-DESC;FMTTYPE=text/html:<p style="text-align: center">\n	Free Community Shred-It Day<br />\n	<br />\n	Saturday\, April 28th<br />\n	9am - 10:30 am<br />\n	<br />\n	618 N. Scales Street<br />\n	Reidsville\, NC<br />\n	<br />\n	<a href="http://cloud.chambermaster.com/userfiles/UserFiles/chambers/111/File/ShredItDayFlyerReidsvilleII.pdf">Click Here</a></p>\n
LOCATION:
UID:e.111.2204
SEQUENCE:3
DTSTAMP:20260421T130507Z
URL:https://business.reidsvillechamber.org/events/details/free-community-shred-it-day-04-28-2012-2204
END:VEVENT

END:VCALENDAR
