BEGIN:VCALENDAR
VERSION:2.0
PRODID:-//ChamberMaster//Event Calendar 2.0//EN
METHOD:PUBLISH
X-PUBLISHED-TTL:P3D
REFRESH-INTERVAL:P3D
CALSCALE:GREGORIAN
BEGIN:VEVENT
DTSTART:20120519T210000Z
DTEND:20120519T210000Z
X-MICROSOFT-CDO-ALLDAYEVENT:FALSE
SUMMARY:Free Concert!! - Roy Roberts\, Tony Drake\, Little Royal\, & Barbara Carr
DESCRIPTION:At Market Square!!!!\n\n	Red Solo Cup Lounge (Beer Garden)\n\n	during the concert!!\n\n	Sponsored by The Reidsville Downtown Corporation!
X-ALT-DESC;FMTTYPE=text/html:<p style="text-align: center">\n	At Market Square!!!!<br />\n	Red Solo Cup Lounge (Beer Garden)<br />\n	during the concert!!<br />\n	Sponsored by The Reidsville Downtown Corporation!</p>\n
LOCATION:
UID:e.111.2236
SEQUENCE:3
DTSTAMP:20260425T110942Z
URL:https://business.reidsvillechamber.org/events/details/free-concert-roy-roberts-tony-drake-little-royal-barbara-carr-05-19-2012-2236
END:VEVENT

END:VCALENDAR
