BEGIN:VCALENDAR
VERSION:2.0
PRODID:-//ChamberMaster//Event Calendar 2.0//EN
METHOD:PUBLISH
X-PUBLISHED-TTL:P3D
REFRESH-INTERVAL:P3D
CALSCALE:GREGORIAN
BEGIN:VEVENT
DTSTART:20110902T220000Z
DTEND:20110903T003000Z
X-MICROSOFT-CDO-ALLDAYEVENT:FALSE
SUMMARY:Free Courtyard Concert: Think-N-Thin
DESCRIPTION:Join us for our Free Courtyard Concerts series every Thursday evening in September. The concerts will be from 6 p.m. to 8:30 p.m.\n\n\n\nCome enjoy the latest Chinqua Penn wines (and old favorites) by the bottle or the glass\; soft drinks also will be available. Grilled items will be available for purchase at the concerts or bring a picnic. Join your friends and neighbors every Thursday in May to "wine dine and have a good time". Entry to the grounds is free. Please no outside beverages.\n\nFeaturing these fine artists:\n\n\n\nSeptember 1 Think -N- Thin\n\n\n\nSeptember 8 The Hungry Hash House Ramblers\n\n\n\nSeptember 15 Michael Ken\n\n\n\nSeptember 22 Andrea Reese\n\n\n\nSeptember 29 Brandon Adams\n\n\n\n\n\nConcerts are Rain or Shine. In the event of rain\, concerts will be in the historic Lutton Greenhouse.\n\nMORE DETAILS AND OPTIONAL RESERVATIONS:\n\n\n\nBring Friend\, Bring a Chair\, Bring a picnic. Reserve tables also available. Call for details. 336-349-4576 or email cppinfo@chinquapenn.com
X-ALT-DESC;FMTTYPE=text/html:Join us for our Free Courtyard Concerts series every Thursday evening in September. The concerts will be from 6 p.m. to 8:30 p.m.<br />\n<br />\nCome enjoy the latest Chinqua Penn wines (and old favorites) by the bottle or the glass\; soft drinks also will be available. Grilled items will be available for purchase at the concerts or bring a picnic. Join your friends and neighbors every Thursday in May to &quot\;wine dine and have a good time&quot\;. Entry to the grounds is free. Please no outside beverages.<br />\nFeaturing these fine artists:<br />\n<br />\nSeptember 1 Think -N- Thin<br />\n<br />\nSeptember 8 The Hungry Hash House Ramblers<br />\n<br />\nSeptember 15 Michael Ken<br />\n<br />\nSeptember 22 Andrea Reese<br />\n<br />\nSeptember 29 Brandon Adams<br />\n<br />\n<br />\nConcerts are Rain or Shine. In the event of rain\, concerts will be in the historic Lutton Greenhouse.<br />\nMORE DETAILS AND OPTIONAL RESERVATIONS:<br />\n<br />\nBring Friend\, Bring a Chair\, Bring a picnic. Reserve tables also available. Call for details. 336-349-4576 or email cppinfo@chinquapenn.com
LOCATION:Chinqua Penn Plantation
UID:e.111.1986
SEQUENCE:3
DTSTAMP:20260423T102255Z
URL:https://business.reidsvillechamber.org/events/details/free-courtyard-concert-think-n-thin-09-02-2011-1986
END:VEVENT

END:VCALENDAR
