BEGIN:VCALENDAR
VERSION:2.0
PRODID:-//ChamberMaster//Event Calendar 2.0//EN
METHOD:PUBLISH
X-PUBLISHED-TTL:P3D
REFRESH-INTERVAL:P3D
CALSCALE:GREGORIAN
BEGIN:VEVENT
DTSTART:20260619T200000Z
DTEND:20260620T000000Z
X-MICROSOFT-CDO-ALLDAYEVENT:FALSE
SUMMARY:Free Summer Hangout
DESCRIPTION:Be our guest and visit with our many vendors!\n\nHere are a few:\n\nJewelry\n\nHat Bar\n\nTouch a Crane/Tractor\n\nBronze Beauty for Tanning\n\nLoc Bar\n\nToro Tax\n\nWood Crafts\n\nPermanent Jewelry\n\nBalloon Party Displays\n\nBaked Treats Dipped in Chocolate\n\nChair Massage
X-ALT-DESC;FMTTYPE=text/html:<br />\nBe our guest and visit with our many vendors!<br />\nHere are a few:<br />\nJewelry<br />\nHat Bar<br />\nTouch a Crane/Tractor<br />\nBronze Beauty for Tanning<br />\nLoc Bar<br />\nToro Tax<br />\nWood Crafts<br />\nPermanent Jewelry<br />\nBalloon Party Displays<br />\nBaked Treats Dipped in Chocolate<br />\nChair Massage<br />\n&nbsp\;
LOCATION:1433 Freeway Drive in the Parking Lot at Ashcroft Commons
UID:e.111.11831
SEQUENCE:3
DTSTAMP:20260422T183334Z
URL:https://business.reidsvillechamber.org/events/details/free-summer-hangout-11831
END:VEVENT

END:VCALENDAR
