BEGIN:VCALENDAR
VERSION:2.0
PRODID:-//ChamberMaster//Event Calendar 2.0//EN
METHOD:PUBLISH
X-PUBLISHED-TTL:P3D
REFRESH-INTERVAL:P3D
CALSCALE:GREGORIAN
BEGIN:VEVENT
DTSTART:20091111T150000Z
DTEND:20091111T180000Z
X-MICROSOFT-CDO-ALLDAYEVENT:FALSE
SUMMARY:Free Vein Function Screening
DESCRIPTION:Free Vein Function Screening
X-ALT-DESC;FMTTYPE=text/html:Free Vein Function Screening
LOCATION:Carolina Apothecary
UID:e.111.1261
SEQUENCE:3
DTSTAMP:20260424T214632Z
URL:https://business.reidsvillechamber.org/events/details/free-vein-function-screening-11-11-2009-1261
END:VEVENT

END:VCALENDAR
