BEGIN:VCALENDAR
VERSION:2.0
PRODID:-//ChamberMaster//Event Calendar 2.0//EN
METHOD:PUBLISH
X-PUBLISHED-TTL:P3D
REFRESH-INTERVAL:P3D
CALSCALE:GREGORIAN
BEGIN:VEVENT
DTSTART;VALUE=DATE:20110408
DTEND;VALUE=DATE:20110409
TRANSP:TRANSPARENT
X-MICROSOFT-CDO-ALLDAYEVENT:TRUE
SUMMARY:Free Vein Screening
DESCRIPTION:Free Vein Screening provided by MEDI
X-ALT-DESC;FMTTYPE=text/html:Free Vein Screening provided by MEDI
LOCATION:Carolina Apothecary- 726 S. Scales Street\, Reidsville NC
UID:e.111.1906
SEQUENCE:3
DTSTAMP:20260423T182158Z
URL:https://business.reidsvillechamber.org/events/details/free-vein-screening-04-08-2011-1906
END:VEVENT

END:VCALENDAR
