BEGIN:VCALENDAR
VERSION:2.0
PRODID:-//ChamberMaster//Event Calendar 2.0//EN
METHOD:PUBLISH
X-PUBLISHED-TTL:P3D
REFRESH-INTERVAL:P3D
CALSCALE:GREGORIAN
BEGIN:VEVENT
DTSTART;VALUE=DATE:20141114
DTEND;VALUE=DATE:20141115
TRANSP:TRANSPARENT
X-MICROSOFT-CDO-ALLDAYEVENT:TRUE
SUMMARY:Friday Night Karaoke
DESCRIPTION:Friday Night Karaoke \n\n\n\nJoin us for a great time\, good music\, and a wonderful dining experience in a fun-filled atmosphere.
X-ALT-DESC;FMTTYPE=text/html:<em><span style="font-size:28px\;"><strong>Friday Night Karaoke<span style="font-size:22px\;">&#8203\;<br />\n<br />\nJoin us for a great time\, good music\, and a wonderful dining experience in a fun-filled atmosphere.</span></strong></span></em>
LOCATION:Halftime Headquarters 100 South Scales Reidsville\, NC 27320
UID:e.111.2960
SEQUENCE:3
DTSTAMP:20260422T161728Z
URL:https://business.reidsvillechamber.org/events/details/friday-night-karaoke-11-14-2014-2960
END:VEVENT

END:VCALENDAR
