BEGIN:VCALENDAR
VERSION:2.0
PRODID:-//ChamberMaster//Event Calendar 2.0//EN
METHOD:PUBLISH
X-PUBLISHED-TTL:P3D
REFRESH-INTERVAL:P3D
CALSCALE:GREGORIAN
BEGIN:VEVENT
DTSTART:20110322T140000Z
DTEND:20110322T160000Z
X-MICROSOFT-CDO-ALLDAYEVENT:FALSE
SUMMARY:Fruit Tree Pruning Workshop
DESCRIPTION:Click Here to view Event Flyer!
X-ALT-DESC;FMTTYPE=text/html:<span style="font-size: 20px\;"><strong><a href="http://cloud.chambermaster.com/userfiles/UserFiles/chambers/111/File/Fruit%20Tree%20Pruning%20%283-2011%29.pdf"><br />\nClick Here to view Event Flyer!</a></strong></span>
LOCATION:
UID:e.111.1605
SEQUENCE:3
DTSTAMP:20260423T194823Z
URL:https://business.reidsvillechamber.org/events/details/fruit-tree-pruning-workshop-03-22-2011-1605
END:VEVENT

END:VCALENDAR
