BEGIN:VCALENDAR
VERSION:2.0
PRODID:-//ChamberMaster//Event Calendar 2.0//EN
METHOD:PUBLISH
X-PUBLISHED-TTL:P3D
REFRESH-INTERVAL:P3D
CALSCALE:GREGORIAN
BEGIN:VEVENT
DTSTART;VALUE=DATE:20141007
DTEND;VALUE=DATE:20141008
TRANSP:TRANSPARENT
X-MICROSOFT-CDO-ALLDAYEVENT:TRUE
SUMMARY:Fueling Your Business
DESCRIPTION:The North Carolina Rural Economic Development Center will offer a free seminar that is designed to help small business owners and prospective entrepreneurs understand how to access credit and capital for their businesses. It will review the six basic principles many lenders use to make credit decisions and provide an overview of the resources available in North Carolina for small businesses. Finally\, the seminar will cover the Rural Center's Microenterprise Loan Program and provide details about its lending criteria and application process.
X-ALT-DESC;FMTTYPE=text/html:<p><span style="font-family:&quot\;Calibri&quot\;\,&quot\;sans-serif&quot\;\;color:black">The North Carolina Rural Economic Development Center will offer a free seminar that is designed to help small business owners and prospective entrepreneurs understand how to access credit and capital for their businesses. It will review the six basic principles many lenders use to make credit decisions and provide an overview of the resources available in North Carolina for small businesses. Finally\, the seminar will cover the Rural Center&#39\;s Microenterprise Loan Program and provide details about its lending criteria and application process.<o:p></o:p></span></p>\n
LOCATION:Reidsville Chamber Office 112 Settle Street Reidsville\, NC 27320
UID:e.111.2912
SEQUENCE:3
DTSTAMP:20260422T180829Z
URL:https://business.reidsvillechamber.org/events/details/fueling-your-business-10-07-2014-2912
END:VEVENT

END:VCALENDAR
