BEGIN:VCALENDAR
VERSION:2.0
PRODID:-//ChamberMaster//Event Calendar 2.0//EN
METHOD:PUBLISH
X-PUBLISHED-TTL:P3D
REFRESH-INTERVAL:P3D
CALSCALE:GREGORIAN
BEGIN:VEVENT
DTSTART:20111112T180000Z
DTEND:20111112T220000Z
X-MICROSOFT-CDO-ALLDAYEVENT:FALSE
SUMMARY:Fun Day at Short Sugars to Raise Food For Local Pantrys
DESCRIPTION:IPM TO 5PM: E-Z STREET CRUISERS-CLASSICCARS ON DISPLAY.\n\n	 \n\n	IPM TO 2:30PM: BLUE GRASS & COUNTRY MUSIC PROVIDED BY LUCKY CITY."\n\n	 \n\n	3:30 TO 5PM: GOSPEL MUSIC PROVIDED BY CALLED OUT MINISTRIES. \n\n	\n\n	PLEASE BRING A GROCERY BAG OF NONPERISHABLE\n\n	FOOD TO BE DISTRIBUTED BY 2 LOCAL FOOD PANTRYS.\n\n	\n\n	LET'S FILL THOSE SHELVES FOR THE THANKSGIVING & CHRISTMAS SEASON!! \n\n	\n\n	THANK YOU!!!           Click Here For Flyer
X-ALT-DESC;FMTTYPE=text/html:<p align="left">\n	<span style="font-size: 14px"><font color="#201d21" face="Times New Roman"><font color="#201d21" face="Times New Roman"><font color="#201d21" face="Times New Roman">IPM TO 5PM: E-Z STREET CRUISERS-CLASSIC</font></font></font></span><span style="font-size: 14px"><font color="#201d21" face="Times New Roman"><font color="#201d21" face="Times New Roman"><font color="#201d21" face="Times New Roman">CARS ON DISPLAY.</font></font></font></span><br />\n	&nbsp\;</p>\n<p align="left">\n	<span style="font-size: 14px"><font color="#201d21" face="Times New Roman"><font color="#201d21" face="Times New Roman"><font color="#201d21" face="Times New Roman">IPM TO 2:30PM: BLUE GRASS </font></font></font><font color="#201d21" face="Arial"><font color="#201d21" face="Arial"><font color="#201d21" face="Arial">&amp\; </font></font></font><font color="#201d21" face="Times New Roman"><font color="#201d21" face="Times New Roman"><font color="#201d21" face="Times New Roman">COUNTRY MUSIC</font></font></font></span><span style="font-size: 14px"><font color="#ede4e7" face="Arial"><font color="#ede4e7" face="Arial"><font color="#ede4e7" face="Arial"> </font></font></font><font color="#201d21" face="Times New Roman"><font color="#201d21" face="Times New Roman"><font color="#201d21" face="Times New Roman">PROVIDED BY LUCKY CITY.</font></font></font><font color="#d8cdca" face="Times New Roman"><font color="#d8cdca" face="Times New Roman"><font color="#d8cdca" face="Times New Roman">&quot\;</font></font></font></span><br />\n	&nbsp\;</p>\n<p align="left">\n	<span style="font-size: 14px"><font color="#201d21" face="Times New Roman"><font color="#201d21" face="Times New Roman"><font color="#201d21" face="Times New Roman">3:30 TO 5PM: GOSPEL MUSIC PROVIDED BY </font></font></font></span><span style="font-size: 14px"><font color="#201d21" face="Times New Roman"><font color="#201d21" face="Times New Roman"><font color="#201d21" face="Times New Roman">CALLED OUT MINISTRIES. </font></font></font></span><br />\n	<br />\n	<span style="font-size: 14px"><font color="#201d21" face="Times New Roman"><font color="#201d21" face="Times New Roman"><font color="#201d21" face="Times New Roman">PLEASE BRING A GROCERY BAG OF NONPERISHABLE</font></font></font></span></p>\n<p align="left">\n	<span style="font-size: 14px"><font color="#201d21" face="Times New Roman"><font color="#201d21" face="Times New Roman"><font color="#201d21" face="Times New Roman">FOOD TO BE DISTRIBUTED BY 2 </font></font></font></span><span style="font-size: 14px"><font color="#201d21" face="Times New Roman"><font color="#201d21" face="Times New Roman"><font color="#201d21" face="Times New Roman">LOCAL FOOD PANTRYS.<br />\n	<br />\n	LET&#39\;S FILL THOSE </font></font></font></span><span style="font-size: 14px"><font color="#201d21" face="Times New Roman"><font color="#201d21" face="Times New Roman"><font color="#201d21" face="Times New Roman">SHELVES FOR THE THANKSGIVING </font></font></font><font color="#201d21" face="Arial"><font color="#201d21" face="Arial"><font color="#201d21" face="Arial">&amp\; </font></font></font></span><span style="font-size: 14px"><font color="#201d21" face="Times New Roman"><font color="#201d21" face="Times New Roman"><font color="#201d21" face="Times New Roman">CHRISTMAS SEASON!! </font></font></font><br />\n	<br />\n	<font color="#000004" face="Times New Roman"><font color="#000004" face="Times New Roman"><font color="#000004" face="Times New Roman">THANK YOU!!!&nbsp\;&nbsp\;&nbsp\;&nbsp\;&nbsp\;&nbsp\;&nbsp\;&nbsp\;&nbsp\;&nbsp\; </font></font></font></span><a href="http://cloud.chambermaster.com/userfiles/UserFiles/chambers/111/File/funday.pdf">Click Here For Flyer</a><font color="#000004" face="Times New Roman" size="6"><font color="#000004" face="Times New Roman" size="6"><font color="#000004" face="Times New Roman" size="6"><span _fck_bookmark="1" style="display: none">&nbsp\;</span></font></font></font></p>\n
LOCATION:Short Sugars Drive-In Scales Street Reidsville
UID:e.111.2065
SEQUENCE:3
DTSTAMP:20260421T193002Z
URL:https://business.reidsvillechamber.org/events/details/fun-day-at-short-sugars-to-raise-food-for-local-pantrys-11-12-2011-2065
END:VEVENT

END:VCALENDAR
