BEGIN:VCALENDAR
VERSION:2.0
PRODID:-//ChamberMaster//Event Calendar 2.0//EN
METHOD:PUBLISH
X-PUBLISHED-TTL:P3D
REFRESH-INTERVAL:P3D
CALSCALE:GREGORIAN
BEGIN:VEVENT
DTSTART:20101021T210000Z
DTEND:20101021T233000Z
X-MICROSOFT-CDO-ALLDAYEVENT:FALSE
SUMMARY:Gallery Showing -- Emerging Young Artists (Rockingham County Arts Council)
DESCRIPTION:Rockingham County Arts Council \n\n	\n\n	Gallery Showing \n\n	Emerging Young Artists \n\n	Vincent Turner \n\n	Kelly McGrath\n\n	Thursday\, October 21\, 5:00-7:30pm\n\n	\n\n	Rockingham County Arts Council\n\n	PO Box 83\n\n	Wentworth\, NC 27375\n\n	336-349-4039\n\n	www.artsinrockingham.org
X-ALT-DESC;FMTTYPE=text/html:<p style="text-align: center\;">\n	<span style="font-weight: bold\;"><span style="font-family: tempus sans itc\;"><span style="font-size: 22pt\;">Rockingham County Arts Council </span></span></span><br />\n	<br />\n	<span style="color: rgb(255\, 0\, 0)\;"><span style="font-weight: bold\;"><span style="font-family: tempus sans itc\;"><span style="font-size: 20pt\;">Gallery Showing </span></span></span></span><br />\n	<span style="color: rgb(255\, 0\, 0)\;"><span style="font-family: tempus sans itc\;"><span style="font-size: 18pt\;">Emerging Young Artists </span></span></span><br />\n	<span style="font-family: tempus sans itc\;"><span style="font-size: 14pt\;">Vincent Turner </span></span><br />\n	<span style="font-family: tempus sans itc\;"><span style="font-size: 14pt\;">Kelly McGrath</span></span><br />\n	<span style="color: rgb(0\, 0\, 255)\;"><strong><span style="font-family: tempus sans itc\;"><span style="font-size: 18pt\;">Thursday\, October 21\, 5:00-7:30pm</span></span></strong></span><br />\n	<br />\n	<span style="font-weight: bold\;"><span style="font-family: tempus sans itc\;"><span style="font-size: 11pt\;">Rockingham County Arts Council</span></span></span><br />\n	<span style="font-weight: bold\;"><span style="font-family: tempus sans itc\;"><span style="font-size: 11pt\;">PO Box 83</span></span></span><br />\n	<span style="font-weight: bold\;"><span style="font-family: tempus sans itc\;"><span style="font-size: 11pt\;">Wentworth\, NC 27375</span></span></span><br />\n	<span style="font-weight: bold\;"><span style="font-family: tempus sans itc\;"><span style="font-size: 11pt\;">336-349-4039</span></span></span><br />\n	<span style="font-weight: bold\;"><span style="font-family: tempus sans itc\;"><span style="font-size: 11pt\;">www.artsinrockingham.org</span></span></span></p>\n
LOCATION:
UID:e.111.1533
SEQUENCE:3
DTSTAMP:20260424T040148Z
URL:https://business.reidsvillechamber.org/events/details/gallery-showing-emerging-young-artists-rockingham-county-arts-council-10-21-2010-1533
END:VEVENT

END:VCALENDAR
