BEGIN:VCALENDAR
VERSION:2.0
PRODID:-//ChamberMaster//Event Calendar 2.0//EN
METHOD:PUBLISH
X-PUBLISHED-TTL:P3D
REFRESH-INTERVAL:P3D
CALSCALE:GREGORIAN
BEGIN:VEVENT
DTSTART:20100603T220000Z
DTEND:20100603T233000Z
X-MICROSOFT-CDO-ALLDAYEVENT:FALSE
SUMMARY:Garden Mushroom Class
DESCRIPTION:More whimsical fun for the garden! Create 3 mushroom caps from clay\, add texture\, little sculpted dragonflies\, etc.\, then paint with underglaze in earth tones or bright colors. Your finished creations will each have a metal post to push into the ground so your mushroom caps can sway in the breeze. Class perfect for all ages\, all abilities. (Under 12 w/adult.)
X-ALT-DESC;FMTTYPE=text/html:More whimsical fun for the garden! Create 3 mushroom caps from clay\, add texture\, little sculpted dragonflies\, etc.\, then paint with underglaze in earth tones or bright colors. Your finished creations will each have a metal post to push into the ground so your mushroom caps can sway in the breeze. Class perfect for all ages\, all abilities. (Under 12 w/adult.)
LOCATION:Everyday Art's upstairs studio at 209 SW Market Street\, Downtown Reidsville
UID:e.111.1462
SEQUENCE:3
DTSTAMP:20260424T100941Z
URL:https://business.reidsvillechamber.org/events/details/garden-mushroom-class-06-03-2010-1462
END:VEVENT

END:VCALENDAR
