BEGIN:VCALENDAR
VERSION:2.0
PRODID:-//ChamberMaster//Event Calendar 2.0//EN
METHOD:PUBLISH
X-PUBLISHED-TTL:P3D
REFRESH-INTERVAL:P3D
CALSCALE:GREGORIAN
BEGIN:VEVENT
DTSTART:20120428T130000Z
DTEND:20120428T190000Z
X-MICROSOFT-CDO-ALLDAYEVENT:FALSE
SUMMARY:Garden Tour of Wentworth
DESCRIPTION:Saturday April 28\, 2012 9:00 AM - 3:00 PM\n\n	\n\n	Join us for a day of garden splendor with eight\n\n	homes on the tour!\n\n	\n\n	All proceeds benefit The Arthritis Foundation\n\n	\n\n	Tickets are $10 and can be purchased at:\n\n	The Cat's Meow\n\n	Mom's Kitchen\n\n	Wentworth Town Hall or\n\n	gardentourofwentworth@gmail.com\n\n	\n\n	Bring your Garden Tour ticket to Elizabeth's Pizza in Wentworth the\n\n	day of the tour and receive $2.00 off large pizza or $1.50 off pasta\n\n	dish.
X-ALT-DESC;FMTTYPE=text/html:<p style="text-align: center">\n	<span style="font-size: 12px">Saturday April 28\, 2012 9:00 AM - 3:00 PM</span><br />\n	<br />\n	<span style="font-size: 12px">Join us for a day of garden splendor with eight</span><br />\n	<span style="font-size: 12px">homes on the tour!</span><br />\n	<br />\n	<span style="font-size: 12px">All proceeds benefit The Arthritis Foundation</span><br />\n	<br />\n	<span style="font-size: 12px">Tickets are $10 and can be purchased at:</span><br />\n	<span style="font-size: 12px">The Cat&rsquo\;s Meow</span><br />\n	<span style="font-size: 12px">Mom&rsquo\;s Kitchen</span><br />\n	<span style="font-size: 12px">Wentworth Town Hall or</span><br />\n	<span style="font-size: 12px"><span style="font-size: 12px"><a href="mailto:gardentourofwentworth@gmail.comBring">gardentourofwentworth@gmail.com</a></span></span><span style="font-size: 12px"><br />\n	<br />\n	Bring your Garden Tour ticket to Elizabeth&rsquo\;s Pizza in Wentworth </span><span style="font-size: 12px">the</span><br />\n	<span style="font-size: 12px">day</span><span style="font-size: 12px"> of the tour and receive $2.00 off large pizza or $1.50 off pasta</span><br />\n	<span style="font-size: 12px">dish.</span></p>\n
LOCATION:
UID:e.111.2157
SEQUENCE:3
DTSTAMP:20260421T131145Z
URL:https://business.reidsvillechamber.org/events/details/garden-tour-of-wentworth-04-28-2012-2157
END:VEVENT

END:VCALENDAR
