BEGIN:VCALENDAR
VERSION:2.0
PRODID:-//ChamberMaster//Event Calendar 2.0//EN
METHOD:PUBLISH
X-PUBLISHED-TTL:P3D
REFRESH-INTERVAL:P3D
CALSCALE:GREGORIAN
BEGIN:VEVENT
DTSTART;VALUE=DATE:20111207
DTEND;VALUE=DATE:20111226
TRANSP:TRANSPARENT
X-MICROSOFT-CDO-ALLDAYEVENT:TRUE
SUMMARY:Get Great Holiday Gifts while Supporting your Local Farmers
DESCRIPTION:1-Log on to www.piedmontlocalfood.com for holiday gift ideas starting as low as $10.00 or make your own basket.  Contact Sandra at 336.347.8278 or manager@piedmontlocalfood.com for basket ideas.  \n\n \n\n2-Shop----don't forget to delight your dinner party hostess with a gift basket full of locally produced goodies!!!!  Everyone loves a homemade gift but who has time?  Remember\, clients\, co-workers\, employees\, family and friends love to see dollars spent locally!  So\, get out your list and shop\, shop\, shop!!!  Need ideas for corporate giving?????  Call Sandra!\n\n \n\n3-Delivered straight to you with no shipping and handling fees!!!!!   Easy as 1-2-3!\n\n \n\nThink Local!       Buy Local!!!!!   Keep your dollars local!!!!!!!!!!!!!  Support Local Agriculture!!!!!!
X-ALT-DESC;FMTTYPE=text/html:&nbsp\;<span style="font-size: 14pt"><span style="color: red">1</span></span><span style="font-size: 14pt">-Log on to <a href="http://www.piedmontlocalfood.com/">www.piedmontlocalfood.com</a> for holiday gift ideas starting as low as $10.00 or make your own basket.&nbsp\; Contact Sandra at 336.347.8278 or <a href="mailto:manager@piedmontlocalfood.com">manager@piedmontlocalfood.com</a> for basket ideas.&nbsp\; </span><br />\n&nbsp\;<br />\n<span style="font-size: 14pt"><span style="color: red">2</span></span><span style="font-size: 14pt">-Shop----don&rsquo\;t forget to delight your dinner party hostess with a gift basket full of locally produced goodies!!!!&nbsp\; Everyone loves a homemade gift but who has time?&nbsp\; Remember\, clients\, co-workers\, employees\, family and friends love to see dollars spent locally!&nbsp\; So\, get out your list and shop\, shop\, shop!!!&nbsp\; Need ideas for corporate giving?????&nbsp\; Call Sandra!</span><br />\n&nbsp\;<br />\n<span style="font-size: 14pt"><span style="color: red">3</span></span><span style="font-size: 14pt">-Delivered straight to you with no shipping and handling fees!!!!!&nbsp\;&nbsp\; Easy as 1-2-3!</span><br />\n&nbsp\;<br />\n<span style="font-size: 14pt">Think Local!&nbsp\;&nbsp\;&nbsp\;&nbsp\;&nbsp\;&nbsp\; Buy Local!!!!!&nbsp\;&nbsp\; Keep your dollars local!!!!!!!!!!!!!&nbsp\; Support Local Agriculture!!!!!!</span><br />\n&nbsp\;<br />\n
LOCATION:
UID:e.111.2101
SEQUENCE:3
DTSTAMP:20260421T175229Z
URL:https://business.reidsvillechamber.org/events/details/get-great-holiday-gifts-while-supporting-your-local-farmers-12-07-2011-2101
END:VEVENT

END:VCALENDAR
