BEGIN:VCALENDAR
VERSION:2.0
PRODID:-//ChamberMaster//Event Calendar 2.0//EN
METHOD:PUBLISH
X-PUBLISHED-TTL:P3D
REFRESH-INTERVAL:P3D
CALSCALE:GREGORIAN
BEGIN:VEVENT
DTSTART;VALUE=DATE:20120322
DTEND;VALUE=DATE:20120323
TRANSP:TRANSPARENT
X-MICROSOFT-CDO-ALLDAYEVENT:TRUE
SUMMARY:"Getting Found Online and Protecting Your Online Reputation?"
DESCRIPTION:Join guest speaker Tony Edwards from\n\n	InterCircle Marketing at\n\n	the Reidsville Chamber of Commerce at\n\n	12 noon on March 22\, 2012!!\n\n	Must register by calling (336)-349-8481!!   Lunch provided!!\n\n	How does your business rank online?\n\n	Learn how to take the #1 ranking!\n\n	How to protect your online and offline reputation.\n\n	\n\n	Most businesses which have a negative reputation online\n\n	do not even know!!!\n\n	Learn how to get a positive reputation and more customers\n\n	in the door!!
X-ALT-DESC;FMTTYPE=text/html:<p style="text-align: center">\n	<span style="font-size: 14px">Join guest speaker Tony Edwards&nbsp\;from<br />\n	InterCircle Marketing at<br />\n	the Reidsville Chamber of Commerce at<br />\n	12 noon on March 22\, 2012!!</span></p>\n<p style="text-align: center">\n	<span style="font-size: 12px"><strong>Must register </strong>by calling (336)-349-8481!!&nbsp\;&nbsp\; Lunch provided!!</span></p>\n<p style="text-align: center">\n	<span style="font-size: 12px">How does your business rank online?<br />\n	Learn how to take the #1 ranking!<br />\n	How to protect your online and offline reputation.<br />\n	<br />\n	Most businesses which have a negative reputation online<br />\n	do not even know!!!<br />\n	Learn how to get a positive reputation and more customers<br />\n	in the door!!<br />\n	&nbsp\;</span></p>\n
LOCATION:Reidsville Chamber of Commerce 112 Settle Street\, Reidsville\, NC
UID:e.111.2166
SEQUENCE:3
DTSTAMP:20260421T130804Z
URL:https://business.reidsvillechamber.org/events/details/getting-found-online-and-protecting-your-online-reputation-03-22-2012-2166
END:VEVENT

END:VCALENDAR
