BEGIN:VCALENDAR
VERSION:2.0
PRODID:-//ChamberMaster//Event Calendar 2.0//EN
METHOD:PUBLISH
X-PUBLISHED-TTL:P3D
REFRESH-INTERVAL:P3D
CALSCALE:GREGORIAN
BEGIN:VEVENT
DTSTART:20100715T220000Z
DTEND:20100716T000000Z
X-MICROSOFT-CDO-ALLDAYEVENT:FALSE
SUMMARY:Golden Leaf Community Forum
DESCRIPTION:Golden LEAF FoundationCommunity Forum to Develop Proposals for $2 Million Grant You are invited to attend the next development meetingJuly 15th from 6:00 - 8:00 pmAuditorium at RCC Anyone interested in the deveolopment of these proposals for the Community Assistance Initiative should plan to attend.  Subsequent meetings will be planned monthly for the next six months. For more information please contact Courtney Mills or Pat Cabe by email at cmils@goldenleaf.org or pcabe@goldenleaf.org or by calling Courtney or Pat at 888-684-8404.
X-ALT-DESC;FMTTYPE=text/html:<div style="text-align: center"><span style="font-size: medium">Golden LEAF Foundation</span></div><div style="text-align: center"><span style="font-size: medium">Community Forum to Develop Proposals for $2 Million Grant</span></div><div style="text-align: center">&nbsp\;</div><div style="text-align: center"><span style="font-size: small">You are invited to attend the next development meeting</span></div><div style="text-align: center"><span style="font-size: small">July 15th from 6:00 - 8:00 pm</span></div><div style="text-align: center"><span style="font-size: small">Auditorium at RCC</span></div><div style="text-align: center">&nbsp\;</div><div style="text-align: center">Anyone interested in the deveolopment of these proposals for the Community Assistance Initiative should plan to attend.&nbsp\; Subsequent meetings will be planned monthly for the next six months.</div><div style="text-align: center">&nbsp\;</div><div style="text-align: center">For more information please contact Courtney Mills or Pat Cabe by email at <a href="mailto:cmils@goldenleaf.org">cmils@goldenleaf.org</a> or <a href="mailto:pcabe@goldenleaf.org">pcabe@goldenleaf.org</a> or by calling Courtney or Pat at 888-684-8404.</div><div style="text-align: center">&nbsp\;</div><div style="text-align: center">&nbsp\;</div>
LOCATION:
UID:e.111.1481
SEQUENCE:3
DTSTAMP:20260424T100935Z
URL:https://business.reidsvillechamber.org/events/details/golden-leaf-community-forum-07-15-2010-1481
END:VEVENT

END:VCALENDAR
