BEGIN:VCALENDAR
VERSION:2.0
PRODID:-//ChamberMaster//Event Calendar 2.0//EN
METHOD:PUBLISH
X-PUBLISHED-TTL:P3D
REFRESH-INTERVAL:P3D
CALSCALE:GREGORIAN
BEGIN:VEVENT
DTSTART:20100811T160000Z
DTEND:20100811T230000Z
X-MICROSOFT-CDO-ALLDAYEVENT:FALSE
SUMMARY:Golf ''Fore'' Reidsville Chamber Golf Tournament
DESCRIPTION:18th Annual Golf  "Fore" Reidsville Chamber golf tournament Sponsored by Reidsville NissanPennrose Park Country Club Registration opens at 12:00Lunch served at noonShotgun Start at 12:45Ping-pong ball drop 5:30 p.m.Dinner at 5:30 p.m.Cash prizes for teamsFirst-in-hole ping-pong ball winner $1000Ping-Pong Ball drop tickets available at the Chamber or the day of the tournament Click here for golfer registration ($75/golfer)Click here for sponsor registration ($250 includes 1 golfer & 2 dinners)
X-ALT-DESC;FMTTYPE=text/html:<div align="center"><font face="Verdana" size="6"><strong>18th Annual Golf&nbsp\; &quot\;Fore&quot\; Reidsville Chamber golf tournament</strong></font></div><div align="center">&nbsp\;</div><div align="center"><font face="Verdana" size="5"><strong>Sponsored by Reidsville Nissan</strong></font></div><div align="center"><font face="Verdana" size="5"><strong>Pennrose Park Country Club</strong></font></div><div align="center">&nbsp\;</div><div align="center"><font face="Verdana" size="5">Registration opens at 12:00</font></div><div align="center"><font face="Verdana" size="5">Lunch served at noon</font></div><div align="center"><font face="Verdana" size="5">Shotgun Start at 12:45</font></div><div align="center"><font face="Verdana" size="5">Ping-pong ball drop 5:30 p.m.</font></div><div align="center"><font face="Verdana" size="5">Dinner at 5:30 p.m.</font></div><div align="center"><font face="Verdana" size="5">Cash prizes for teams</font></div><div align="center"><font face="Verdana" size="5">First-in-hole ping-pong ball winner $1000</font></div><div align="center"><span style="font-size: x-small"><font face="Verdana" size="5">Ping-Pong Ball drop tickets available at the Chamber or the day of the tournament</font></span></div><div align="center">&nbsp\;</div><div style="text-align: left"><a href="https://secure.chambermaster.com/FCKeditor/UserFiles/chambers/111/File/Golf%20Information/2010%20Golfer%20Registration%20form.doc">Click here for golfer&nbsp\;registration</a>&nbsp\;($75/golfer)</div><div style="text-align: left"><a href="https://secure.chambermaster.com/FCKeditor/UserFiles/chambers/111/File/Golf%20Information/2010%20sponsor%20Registration%20form.doc">Click here for sponsor registration</a>&nbsp\;($250 includes 1 golfer &amp\; 2 dinners)</div>
LOCATION:
UID:e.111.1313
SEQUENCE:3
DTSTAMP:20260424T071627Z
URL:https://business.reidsvillechamber.org/events/details/golf-fore-reidsville-chamber-golf-tournament-08-11-2010-1313
END:VEVENT

END:VCALENDAR
