BEGIN:VCALENDAR
VERSION:2.0
PRODID:-//ChamberMaster//Event Calendar 2.0//EN
METHOD:PUBLISH
X-PUBLISHED-TTL:P3D
REFRESH-INTERVAL:P3D
CALSCALE:GREGORIAN
BEGIN:VEVENT
DTSTART;VALUE=DATE:20090812
DTEND;VALUE=DATE:20090813
TRANSP:TRANSPARENT
X-MICROSOFT-CDO-ALLDAYEVENT:TRUE
SUMMARY:Golf ''Fore'' Reidsville Chamber Golf Tournament
DESCRIPTION:17th Annual Golf  "Fore" Reidsville Chamber golf tournament Sponsored by Reidsville NissanSpecial appearance by Mike Goodes PGA Champions tour professional Registration opens at 12:00Lunch served at noonShotgun Start at 12:45Ping-pong ball drop 5:30 p.m.Dinner at 5:30 p.m.Cash prizes for teamsFirst-in-hole ping-pong ball winner $1000Ping-Pong Ball drop tickets available at the Chamber or the day of the tournament Click here for golfer registration ($75/golfer)Click here for sponsor registration ($200 includes 1 golfer with additional golfers only $50/golfer)
X-ALT-DESC;FMTTYPE=text/html:<div align="center"><font face="Verdana" size="6"><strong>17th Annual Golf&nbsp\; &quot\;Fore&quot\; Reidsville Chamber golf tournament</strong></font></div><div align="center">&nbsp\;</div><div align="center"><font face="Verdana" size="5"><strong>Sponsored by Reidsville Nissan</strong></font></div><div align="center"><font face="Verdana" size="5"><strong><span style="font-family: Comic Sans MS"><em>Special appearance by Mike Goodes </em></span></strong></font></div><div align="center"><font face="Verdana" size="5"><strong><span style="font-family: Comic Sans MS"><em>PGA Champions tour professional</em></span></strong></font></div><div align="center">&nbsp\;</div><div align="center"><font face="Verdana" size="5">Registration opens at 12:00</font></div><div align="center"><font face="Verdana" size="5">Lunch served at noon</font></div><div align="center"><font face="Verdana" size="5">Shotgun Start at 12:45</font></div><div align="center"><font face="Verdana" size="5">Ping-pong ball drop 5:30 p.m.</font></div><div align="center"><font face="Verdana" size="5">Dinner at 5:30 p.m.</font></div><div align="center"><font face="Verdana" size="5">Cash prizes for teams</font></div><div align="center"><font face="Verdana" size="5">First-in-hole ping-pong ball winner $1000</font></div><div align="center"><span style="font-size: x-small"><font face="Verdana" size="5">Ping-Pong Ball drop tickets available at the Chamber or the day of the tournament</font></span></div><div align="center">&nbsp\;</div><div style="text-align: left"><a href="https://secure.chambermaster.com/FCKeditor/UserFiles/chambers/111/File/Golf%20Information/2009%20Golfer%20Registration%20form.doc">Click here for golfer&nbsp\;registration</a>&nbsp\;($75/golfer)</div><div style="text-align: left"><a href="https://secure.chambermaster.com/FCKeditor/UserFiles/chambers/111/File/Golf%20Information/2009%20sponsor%20Registration%20form.doc">Click here for sponsor registration</a>&nbsp\;($200 includes 1 golfer with additional golfers only $50/golfer)</div><div>&nbsp\;</div>
LOCATION:Plantation Golf CourseReidsville\, NC
UID:e.111.1172
SEQUENCE:3
DTSTAMP:20260425T024114Z
URL:https://business.reidsvillechamber.org/events/details/golf-fore-reidsville-chamber-golf-tournament-08-12-2009-1172
END:VEVENT

END:VCALENDAR
