BEGIN:VCALENDAR
VERSION:2.0
PRODID:-//ChamberMaster//Event Calendar 2.0//EN
METHOD:PUBLISH
X-PUBLISHED-TTL:P3D
REFRESH-INTERVAL:P3D
CALSCALE:GREGORIAN
BEGIN:VEVENT
DTSTART;VALUE=DATE:20110817
DTEND;VALUE=DATE:20110818
TRANSP:TRANSPARENT
X-MICROSOFT-CDO-ALLDAYEVENT:TRUE
SUMMARY:Golf "Fore" Reidsville Tournament
DESCRIPTION:Join us for a fun day of golf and fellowship at the Pennrose Park Country Club. \n\nRegistration begins at 11:45am \, with a shotgun start at 12:45pm
X-ALT-DESC;FMTTYPE=text/html:<em>Join us for a fun day of golf and fellowship at the Pennrose Park Country Club.&nbsp\;<br />\nRegistration begins at 11:45am \, with a shotgun start at 12:45pm</em>
LOCATION:Pennrose Park Country Club
UID:e.111.1576
SEQUENCE:3
DTSTAMP:20260423T122846Z
URL:https://business.reidsvillechamber.org/events/details/golf-fore-reidsville-tournament-08-17-2011-1576
END:VEVENT

END:VCALENDAR
