BEGIN:VCALENDAR
VERSION:2.0
PRODID:-//ChamberMaster//Event Calendar 2.0//EN
METHOD:PUBLISH
X-PUBLISHED-TTL:P3D
REFRESH-INTERVAL:P3D
CALSCALE:GREGORIAN
BEGIN:VEVENT
DTSTART:20100930T130000Z
DTEND:20100930T140000Z
X-MICROSOFT-CDO-ALLDAYEVENT:FALSE
SUMMARY:Goodwill Industries - Ribbon Cutting
DESCRIPTION:The Reidsville Chamber of Commerce\n\n	and\n\n	Goodwill Industries\n\n	\n\n	are pleased to invite you\n\n	to attend a\n\n	Ribbon Cutting\n\n	for the new expansion of their facilities\n\n	on Freeway Drive in Reidsville\n\n	\n\n	The ceremony will be held on\n\n	Thursday\, September 30th\, 2010\n\n	at 9:00 am\n\n	\n\n	This expansion will be a great asset to the community\n\n	and have a tremendous impact on the services provided by the\n\n	Goodwill Resource Center
X-ALT-DESC;FMTTYPE=text/html:<p style="text-align: center">\n	<span style="font-size: 16px"><span style="font-family: arial">The Reidsville Chamber of Commerce<br />\n	and<br />\n	<span style="color: #ff0000"><span style="font-size: 22px">Goodwill Industries</span></span></span></span><br />\n	<br />\n	<span style="font-size: 14px">are pleased to invite you<br />\n	to attend a<br />\n	<em><strong><span style="color: #ff0000">Ribbon Cutting</span></strong></em><br />\n	for the new expansion of their facilities<br />\n	on Freeway Drive in Reidsville</span><br />\n	<br />\n	<span style="font-size: 14px">The ceremony will be held on<br />\n	Thursday\, September 30th\, 2010<br />\n	at 9:00 am</span><br />\n	<br />\n	<span style="font-size: 14px">This expansion will be a great asset to the community<br />\n	and have a tremendous impact on the services provided by the<br />\n	Goodwill Resource Center</span></p>\n
LOCATION:
UID:e.111.1508
SEQUENCE:3
DTSTAMP:20260424T053133Z
URL:https://business.reidsvillechamber.org/events/details/goodwill-industries-ribbon-cutting-09-30-2010-1508
END:VEVENT

END:VCALENDAR
