BEGIN:VCALENDAR
VERSION:2.0
PRODID:-//ChamberMaster//Event Calendar 2.0//EN
METHOD:PUBLISH
X-PUBLISHED-TTL:P3D
REFRESH-INTERVAL:P3D
CALSCALE:GREGORIAN
BEGIN:VEVENT
DTSTART:20120419T130000Z
DTEND:20120419T160000Z
X-MICROSOFT-CDO-ALLDAYEVENT:FALSE
SUMMARY:Goodwill & RCC Spring Job Fair
DESCRIPTION:Please come out and join Goodwill\n\n	& RCC at their Spring Job Fair!!\n\n	\n\n	Everyone Welcome!!\n\n	\n\n	Will be held in the gym at RCC!\n\n	\n\n	\n\n	There will be 30 employers there!!
X-ALT-DESC;FMTTYPE=text/html:<p style="text-align: center">\n	<span style="font-family: verdana"><span style="font-size: 14px">Please come out and join Goodwill<br />\n	&amp\; RCC at their Spring Job Fair!!<br />\n	<br />\n	Everyone Welcome!!<br />\n	<br />\n	Will be held in the gym at RCC!<br />\n	<br />\n	<br />\n	There will be 30 employers there!!</span></span><br />\n	<br />\n	<br />\n	&nbsp\;</p>\n
LOCATION:RCC Gym
UID:e.111.2196
SEQUENCE:3
DTSTAMP:20260421T113500Z
URL:https://business.reidsvillechamber.org/events/details/goodwill-rcc-spring-job-fair-04-19-2012-2196
END:VEVENT

END:VCALENDAR
