BEGIN:VCALENDAR
VERSION:2.0
PRODID:-//ChamberMaster//Event Calendar 2.0//EN
METHOD:PUBLISH
X-PUBLISHED-TTL:P3D
REFRESH-INTERVAL:P3D
CALSCALE:GREGORIAN
BEGIN:VEVENT
DTSTART:20100624T152500Z
DTEND:20100624T160000Z
X-MICROSOFT-CDO-ALLDAYEVENT:FALSE
SUMMARY:Grand Opening & Ribbon Cutting at Way Cup Coffee
DESCRIPTION:Please join the Chamber as we welcomeWay Cup Coffeewith a Grand Opening and Ribbon Cutting Ceremonyon June 24that 11:30 am 8460 NC Hwy 87\, Reidsville Come on out to the new shopping center on 87N in the town of  Wentworth ~  the scent of the freshly brewed specialty coffees will lead you right to their door!
X-ALT-DESC;FMTTYPE=text/html:<div style="text-align: center"><span style="font-size: medium">Please join the Chamber </span></div><div style="text-align: center"><span style="font-size: medium">as we welcome</span></div><div style="text-align: center"><span style="font-size: large">Way Cup Coffee</span></div><div style="text-align: center"><span style="font-size: small">with a Grand Opening and Ribbon Cutting Ceremony</span></div><div style="text-align: center"><span style="font-size: small">on June 24th</span></div><div style="text-align: center"><span style="font-size: small">at 11:30 am</span></div><div style="text-align: center">&nbsp\;</div><div style="text-align: center">8460 NC Hwy 87\, Reidsville</div><div style="text-align: center">&nbsp\;</div><div style="text-align: center">Come on out to the new shopping center on 87N&nbsp\;in the town of &nbsp\;Wentworth ~&nbsp\; the scent of the freshly brewed specialty coffees will lead you right to their door!</div>
LOCATION:
UID:e.111.1467
SEQUENCE:3
DTSTAMP:20260424T114524Z
URL:https://business.reidsvillechamber.org/events/details/grand-opening-ribbon-cutting-at-way-cup-coffee-06-24-2010-1467
END:VEVENT

END:VCALENDAR
