BEGIN:VCALENDAR
VERSION:2.0
PRODID:-//ChamberMaster//Event Calendar 2.0//EN
METHOD:PUBLISH
X-PUBLISHED-TTL:P3D
REFRESH-INTERVAL:P3D
CALSCALE:GREGORIAN
BEGIN:VEVENT
DTSTART:20101005T150000Z
DTEND:20101005T160000Z
X-MICROSOFT-CDO-ALLDAYEVENT:FALSE
SUMMARY:Grand Opening & ribbon cutting for Party Plus of Grand Rental Station of Eden
DESCRIPTION:Tuesday\, October 5\n\n	11:00 am\n\n	Grand Opening/Ribbon Cutting for\n\n	Party Plus of Grand Rental Station\n\n	349 W. Kings Hwy (in the former Grogan's building)\n\n	Eden\, NC
X-ALT-DESC;FMTTYPE=text/html:<p align="center" style="text-align: center\;">\n	<font size="3"><font color="#000000"><font face="Times New Roman"><strong>Tuesday\, October 5</strong><br />\n	11:00 am<br />\n	<em><strong>Grand Opening/Ribbon Cutting</strong></em> for<br />\n	<strong><span style="background-color: rgb(255\, 255\, 0)\;">Party Plus of Grand Rental Station</span></strong><br />\n	349 W. Kings Hwy (in the former Grogan&rsquo\;s building)<br />\n	Eden\, NC</font></font></font><br />\n	&nbsp\;</p>\n
LOCATION:
UID:e.111.1514
SEQUENCE:3
DTSTAMP:20260424T040629Z
URL:https://business.reidsvillechamber.org/events/details/grand-opening-ribbon-cutting-for-party-plus-of-grand-rental-station-of-eden-10-05-2010-1514
END:VEVENT

END:VCALENDAR
