BEGIN:VCALENDAR
VERSION:2.0
PRODID:-//ChamberMaster//Event Calendar 2.0//EN
METHOD:PUBLISH
X-PUBLISHED-TTL:P3D
REFRESH-INTERVAL:P3D
CALSCALE:GREGORIAN
BEGIN:VEVENT
DTSTART:20100429T150000Z
DTEND:20100429T170000Z
X-MICROSOFT-CDO-ALLDAYEVENT:FALSE
SUMMARY:Grand Opening & Ribbon Cutting-Reidsville Community Bank
DESCRIPTION:Ribbon Cutting & Grand Opening atReidsville Community Bank604 S. Scales StreetFun\, Food & Festivities 11:00 a.m. - 1:00 p.m. Ribbon Cutting 11:30 a.m.
X-ALT-DESC;FMTTYPE=text/html:<div style="text-align: center"><span style="font-size: medium">Ribbon Cutting &amp\; Grand Opening at</span></div><div style="text-align: center"><span style="font-size: medium"><span style="font-size: large">Reidsville Community Bank</span></span></div><div style="text-align: center"><span style="font-size: medium"><span style=""><span style="">604 S. Scales Street</span></span></span></div><div style="text-align: center"><span style="font-size: small">Fun\, Food &amp\; Festivities 11:00 a.m. - 1:00 p.m.</span></div><div style="text-align: center">&nbsp\;</div><div style="text-align: center"><strong><span style="font-size: small">Ribbon Cutting 11:30 a.m.</span></strong></div>
LOCATION:
UID:e.111.1364
SEQUENCE:3
DTSTAMP:20260424T152426Z
URL:https://business.reidsvillechamber.org/events/details/grand-opening-ribbon-cutting-reidsville-community-bank-04-29-2010-1364
END:VEVENT

END:VCALENDAR
