BEGIN:VCALENDAR
VERSION:2.0
PRODID:-//ChamberMaster//Event Calendar 2.0//EN
METHOD:PUBLISH
X-PUBLISHED-TTL:P3D
REFRESH-INTERVAL:P3D
CALSCALE:GREGORIAN
BEGIN:VEVENT
DTSTART:20100923T140000Z
DTEND:20100923T210000Z
X-MICROSOFT-CDO-ALLDAYEVENT:FALSE
SUMMARY:Grand Opening & ribbon cutting Wallace Auto Service
DESCRIPTION:Wallace Auto Service \n\n	Grand Opening Celebration Sept 23rd - 25th\n\n	Ribbon Cutting 10:00 am Thursday Sept 23rd will kick off a special weekend celebration\n\n	Giveaways\, special pricing\, food\, and fun!\n\n	WKZL Radio on site 4-6pm Friday\n\n	Profits on gasoline from sales on Thursday-Saturday to be donated to the Reidsville Ram's Booster Club\n\n	415 Turner Drive (corner of Turner & S. Scales)\n\n	Reidsville\, NC
X-ALT-DESC;FMTTYPE=text/html:<h1 style="text-align: center">\n	<span style="font-size: 22px"><span style="font-family: times new roman"><strong><span style="background-color: #ffff00">Wallace Auto Service </span><br />\n	Grand Opening Celebration Sept 23rd - 25th<br />\n	<span style="font-size: 24px"><span style="background-color: #ffff00">Ribbon Cutting 10:00 am Thursday Sept 23rd </span></span>will kick off a special weekend celebration<br />\n	Giveaways\, special pricing\, food\, and fun!<br />\n	WKZL Radio on site 4-6pm Friday</strong><br />\n	<span style="font-size: 16px">Profits on gasoline from sales on Thursday-Saturday to be donated to the Reidsville Ram&#39\;s Booster Club<br />\n	415 Turner Drive (corner of Turner &amp\; S. Scales)<br />\n	Reidsville\, NC</span></span></span><br />\n	&nbsp\;</h1>\n
LOCATION:
UID:e.111.1511
SEQUENCE:3
DTSTAMP:20260424T053410Z
URL:https://business.reidsvillechamber.org/events/details/grand-opening-ribbon-cutting-wallace-auto-service-09-23-2010-1511
END:VEVENT

END:VCALENDAR
