BEGIN:VCALENDAR
VERSION:2.0
PRODID:-//ChamberMaster//Event Calendar 2.0//EN
METHOD:PUBLISH
X-PUBLISHED-TTL:P3D
REFRESH-INTERVAL:P3D
CALSCALE:GREGORIAN
BEGIN:VEVENT
DTSTART:20111029T150000Z
DTEND:20111029T190000Z
X-MICROSOFT-CDO-ALLDAYEVENT:FALSE
SUMMARY:Halloween Extravaganza on the Square
DESCRIPTION:Festival fun for the whole family! Please join us for the Halloween Extravaganza on the Square. Market Square in Downtown Reidsville. FREE Admission! games & Activities\, Entertainment\, Special Performance by Big Bang Boom\, Magician\, Bounce Houses\, Arts & Crafts\, Face Painting\, Festival Food\, Candy\, Prizes and More! \n\n\n\nActivity Tickets: 50 cents \n\nAll Day Fun: $10
X-ALT-DESC;FMTTYPE=text/html:Festival fun for the whole family! Please join us for the Halloween Extravaganza on the Square. Market Square in Downtown Reidsville. FREE Admission! games &amp\; Activities\, Entertainment\, Special Performance by Big Bang Boom\, Magician\, Bounce Houses\, Arts &amp\; Crafts\, Face Painting\, Festival Food\, Candy\, Prizes and More!&nbsp\;<br />\n<br />\nActivity Tickets: 50 cents&nbsp\;<br />\nAll Day Fun: $10<br />\n<br />\n
LOCATION:Market Square in Downtown Reidsville
UID:e.111.2040
SEQUENCE:3
DTSTAMP:20260423T083939Z
URL:https://business.reidsvillechamber.org/events/details/halloween-extravaganza-on-the-square-10-29-2011-2040
END:VEVENT

END:VCALENDAR
