BEGIN:VCALENDAR
VERSION:2.0
PRODID:-//ChamberMaster//Event Calendar 2.0//EN
METHOD:PUBLISH
X-PUBLISHED-TTL:P3D
REFRESH-INTERVAL:P3D
CALSCALE:GREGORIAN
BEGIN:VEVENT
DTSTART;VALUE=DATE:20101030
DTEND;VALUE=DATE:20101031
TRANSP:TRANSPARENT
X-MICROSOFT-CDO-ALLDAYEVENT:TRUE
SUMMARY:Halloween on the Square
DESCRIPTION:For more information call 349-1099.
X-ALT-DESC;FMTTYPE=text/html:<div>For more information call 349-1099.</div>
LOCATION:
UID:e.111.1382
SEQUENCE:3
DTSTAMP:20260424T035805Z
URL:https://business.reidsvillechamber.org/events/details/halloween-on-the-square-10-30-2010-1382
END:VEVENT

END:VCALENDAR
