BEGIN:VCALENDAR
VERSION:2.0
PRODID:-//ChamberMaster//Event Calendar 2.0//EN
METHOD:PUBLISH
X-PUBLISHED-TTL:P3D
REFRESH-INTERVAL:P3D
CALSCALE:GREGORIAN
BEGIN:VEVENT
DTSTART:20090917T220000Z
DTEND:20090918T000000Z
X-MICROSOFT-CDO-ALLDAYEVENT:FALSE
SUMMARY:Hand-built Coffee Mug Class
DESCRIPTION:Create a pair of hand-built coffee mugs from clay. No more mug mix-ups with these as each one will be unique. Clay properties have a wonderful way of bringing hot beverages to proper drinking temperature and holding the warmth. Choose from three finished glaze colors. Fun for all abilities. (Fired project will be available with 3 weeks after class.)
X-ALT-DESC;FMTTYPE=text/html:Create a pair of hand-built coffee mugs from clay. No more mug mix-ups with these as each one will be unique. Clay properties have a wonderful way of bringing hot beverages to proper drinking temperature and holding the warmth. Choose from three finished glaze colors. Fun for all abilities. (Fired project will be available with 3 weeks after class.)
LOCATION:Upstairs studio at Everyday Art\, 209 SW Market Street\, Downtown Reidsville
UID:e.111.1214
SEQUENCE:3
DTSTAMP:20260425T005626Z
URL:https://business.reidsvillechamber.org/events/details/hand-built-coffee-mug-class-09-17-2009-1214
END:VEVENT

END:VCALENDAR
