BEGIN:VCALENDAR
VERSION:2.0
PRODID:-//ChamberMaster//Event Calendar 2.0//EN
METHOD:PUBLISH
X-PUBLISHED-TTL:P3D
REFRESH-INTERVAL:P3D
CALSCALE:GREGORIAN
BEGIN:VEVENT
DTSTART:20100619T140000Z
DTEND:20100619T160000Z
X-MICROSOFT-CDO-ALLDAYEVENT:FALSE
SUMMARY:Hanging Cone Planter
DESCRIPTION:June 19\, Sat. 10:00 am - noon ($28)\n\nHANGING CONE PLANTER or VASE  with Dottie Talley\n\nCreate a lovely cone-shaped hanging planter from a simple slab of clay. You can bring clippings from your garden\, leaves from your trees\, even weeds to impress into the raw clay for texture or just use your own creativity to create a lovely planter or vase suitable for outdoor use. Several glaze colors to choose from! (Adult\; ages under 12 with adult.)
X-ALT-DESC;FMTTYPE=text/html:June 19\, Sat. 10:00 am - noon ($28)\n<br>HANGING CONE PLANTER or VASE  with Dottie Talley\n<br>Create a lovely cone-shaped hanging planter from a simple slab of clay. You can bring clippings from your garden\, leaves from your trees\, even weeds to impress into the raw clay for texture or just use your own creativity to create a lovely planter or vase suitable for outdoor use. Several glaze colors to choose from! (Adult\; ages under 12 with adult.)
LOCATION:Upstairs studio at Everyday Art Gallery\, 209 SW Market Street\, Downtown Reidsville
UID:e.111.1470
SEQUENCE:3
DTSTAMP:20260424T113632Z
URL:https://business.reidsvillechamber.org/events/details/hanging-cone-planter-06-19-2010-1470
END:VEVENT

END:VCALENDAR
