BEGIN:VCALENDAR
VERSION:2.0
PRODID:-//ChamberMaster//Event Calendar 2.0//EN
METHOD:PUBLISH
X-PUBLISHED-TTL:P3D
REFRESH-INTERVAL:P3D
CALSCALE:GREGORIAN
BEGIN:VEVENT
DTSTART:20120414T230000Z
DTEND:20120415T030000Z
X-MICROSOFT-CDO-ALLDAYEVENT:FALSE
SUMMARY:Hearts and Hands Charity Ball
DESCRIPTION:The Free Clinic of Rockingham County\, Inc.\n\n	& Autumn Creek Vineyards present\n\n	\n\n	The Hearts and Hands Charity Ball\n\n	\n\n	Click Here
X-ALT-DESC;FMTTYPE=text/html:<p style="text-align: center">\n	<span style="font-family: verdana"><span style="font-size: 16px"><strong>The Free Clinic of Rockingham County\, Inc.<br />\n	&amp\; Autumn Creek Vineyards present</strong></span></span><br />\n	<br />\n	<span style="font-family: verdana"><span style="font-size: 16px"><strong>The Hearts and Hands Charity Ball</strong></span></span><br />\n	<br />\n	<span style="font-family: verdana"><span style="font-size: 16px"><a href="http://cloud.chambermaster.com/userfiles/UserFiles/chambers/111/File/HeartsHandsFlyer.pdf">Click Here</a></span></span></p>\n
LOCATION:The Pavilion at Autumn Creek Vineyards Mayodan\, NC
UID:e.111.2176
SEQUENCE:3
DTSTAMP:20260421T113818Z
URL:https://business.reidsvillechamber.org/events/details/hearts-and-hands-charity-ball-04-14-2012-2176
END:VEVENT

END:VCALENDAR
