BEGIN:VCALENDAR
VERSION:2.0
PRODID:-//ChamberMaster//Event Calendar 2.0//EN
METHOD:PUBLISH
X-PUBLISHED-TTL:P3D
REFRESH-INTERVAL:P3D
CALSCALE:GREGORIAN
BEGIN:VEVENT
DTSTART:20111008T123000Z
DTEND:20111008T141500Z
X-MICROSOFT-CDO-ALLDAYEVENT:FALSE
SUMMARY:Help Set a World Record! Be Part of the Largest Zumba Class in History!
DESCRIPTION:Help Set a World Record!  Be Part of the Largest Zumba Class in History! \n\nYour $10 donation benefits The Caswell Family Medical Center             \n\n\n\n      Click Here for flyer
X-ALT-DESC;FMTTYPE=text/html:Help Set a World Record!&nbsp\; Be Part of the Largest Zumba Class in History!&nbsp\;<br />\nYour $10 donation benefits The Caswell Family Medical Center &nbsp\;&nbsp\;&nbsp\;&nbsp\;&nbsp\;&nbsp\;&nbsp\;&nbsp\;&nbsp\;&nbsp\;&nbsp\;&nbsp\;<br />\n<br />\n&nbsp\;&nbsp\;&nbsp\;&nbsp\;&nbsp\; <a href="http://cloud.chambermaster.com/userfiles/UserFiles/chambers/111/File/zumbaflyer2.pdf">Click Here for flyer</a>
LOCATION:Bartlett Yancey Buccaneers Football Field\, Yanceyville\, NC
UID:e.111.1998
SEQUENCE:3
DTSTAMP:20260423T085944Z
URL:https://business.reidsvillechamber.org/events/details/help-set-a-world-record-be-part-of-the-largest-zumba-class-in-history-10-08-2011-1998
END:VEVENT

END:VCALENDAR
