BEGIN:VCALENDAR
VERSION:2.0
PRODID:-//ChamberMaster//Event Calendar 2.0//EN
METHOD:PUBLISH
X-PUBLISHED-TTL:P3D
REFRESH-INTERVAL:P3D
CALSCALE:GREGORIAN
BEGIN:VEVENT
DTSTART:20111214T163000Z
DTEND:20111214T220000Z
X-MICROSOFT-CDO-ALLDAYEVENT:FALSE
SUMMARY:Holiday Blood Drive
DESCRIPTION:The American Red Cross will sponsor a blood drive at Annie Penn Hospital on Wednesday\, December 14\, from 11:30   5:00 p.m. in the Womankind Center on fourth floor. To register\, please call 951-4674. Pre-registration is required.
X-ALT-DESC;FMTTYPE=text/html:<span style="font-size: 10pt\; font-family: calibri\; mso-fareast-font-family: 'times new roman'\; mso-bidi-font-family: 'times new roman'\; mso-ansi-language: en-us\; mso-fareast-language: en-us\; mso-bidi-language: ar-sa"><font color="#000000"><font face="Times New Roman">The American Red Cross will sponsor a blood drive at Annie Penn Hospital on <b>Wednesday</b>\, <b>December 14</b>\, from 11:30 &ndash\; 5:00 p.m. in the Womankind Center on fourth floor. To register\, please call 951-<span style="color: black">4674.</span> Pre-registration is required.<span style="mso-spacerun: yes">&nbsp\; </span></font></font></span>
LOCATION:Annie Penn Hospital
UID:e.111.2073
SEQUENCE:3
DTSTAMP:20260421T175019Z
URL:https://business.reidsvillechamber.org/events/details/holiday-blood-drive-12-14-2011-2073
END:VEVENT

END:VCALENDAR
