BEGIN:VCALENDAR
VERSION:2.0
PRODID:-//ChamberMaster//Event Calendar 2.0//EN
METHOD:PUBLISH
X-PUBLISHED-TTL:P3D
REFRESH-INTERVAL:P3D
CALSCALE:GREGORIAN
BEGIN:VEVENT
DTSTART:20101207T120000Z
DTEND:20101207T220000Z
X-MICROSOFT-CDO-ALLDAYEVENT:FALSE
SUMMARY:Holiday Book & Gift Fair - Annie Penn Hospital
DESCRIPTION:The Annie Penn Hospital Auxiliary will host their annual Holiday Book & Gift Fair on Tuesday\, December 7\, 2010\, 7:00 am - 5:00 pm\, in the Main Lobby of the Hospital.  Open to the public. Save up to 70% off retail ! Choose from a selection of books\, including best sellers\, children's books\, cookbooks and much more !!  Gifts galore\, holiday items. Register for a free book drawing. Gift wrapping will be provided by the volunteers.  Proceeds from the sale will be used for hospital equipment.
X-ALT-DESC;FMTTYPE=text/html:The Annie Penn Hospital Auxiliary will host their annual Holiday Book &amp\; Gift Fair on Tuesday\, December 7\, 2010\, 7:00 am - 5:00 pm\, in the Main Lobby of the Hospital. &nbsp\;Open to the public. Save up to 70% off retail ! Choose from a selection of books\, including best sellers\, children&#39\;s books\, cookbooks and much more !!&nbsp\; Gifts galore\, holiday items. Register for a free book drawing. Gift wrapping will be provided by the volunteers.&nbsp\; Proceeds from the sale will be used for hospital equipment.
LOCATION:Annie Penn Hospital Main Lobby
UID:e.111.1082
SEQUENCE:3
DTSTAMP:20260424T004615Z
URL:https://business.reidsvillechamber.org/events/details/holiday-book-gift-fair-annie-penn-hospital-12-07-2010-1082
END:VEVENT

END:VCALENDAR
