BEGIN:VCALENDAR
VERSION:2.0
PRODID:-//ChamberMaster//Event Calendar 2.0//EN
METHOD:PUBLISH
X-PUBLISHED-TTL:P3D
REFRESH-INTERVAL:P3D
CALSCALE:GREGORIAN
BEGIN:VEVENT
DTSTART;VALUE=DATE:20111203
DTEND;VALUE=DATE:20111224
TRANSP:TRANSPARENT
X-MICROSOFT-CDO-ALLDAYEVENT:TRUE
SUMMARY:Holiday & Candlelight Tours at Chinqua - Penn Plantation
DESCRIPTION:Each season brings something new to Chinqua Penn and from Friday\, November 28th through Sunday\, January 1st our 27 room English countryside Manor House is decorated in her holiday finest. Our holiday decorations throughout  Chinqua Penn will delight your senses and inspire your imagination. Dec. 3rd will be the last of this season's candlelight tours\, this is also CandleFest\, with the lighting of the Girl Scouts' luminaries.\n\n	Visit our website www.chinquapenn.com for group rates (10 and over) and additional information\n\n	or call Amy at 336-349-4576
X-ALT-DESC;FMTTYPE=text/html:<div>\n	Each season brings something new to Chinqua Penn and from Friday\, November 28th through Sunday\, January&nbsp\;1st our 27 room English countryside Manor House is decorated in her holiday finest.&nbsp\;Our holiday decorations throughout&nbsp\; Chinqua Penn will delight your senses and inspire your imagination. Dec. 3rd will be the last of this season&#39\;s candlelight tours\, this is also CandleFest\, with the lighting of the Girl Scouts&#39\; luminaries.</div>\n<div>\n	Visit our website <a href="http://www.chinquapenn.com">www.chinquapenn.com</a> for group rates (10 and over)&nbsp\;and additional information</div>\n<div>\n	or call&nbsp\;Amy at 336-349-4576</div>\n
LOCATION:
UID:e.111.2100
SEQUENCE:3
DTSTAMP:20260421T175348Z
URL:https://business.reidsvillechamber.org/events/details/holiday-candlelight-tours-at-chinqua-penn-plantation-12-03-2011-2100
END:VEVENT

END:VCALENDAR
