BEGIN:VCALENDAR
VERSION:2.0
PRODID:-//ChamberMaster//Event Calendar 2.0//EN
METHOD:PUBLISH
X-PUBLISHED-TTL:P3D
REFRESH-INTERVAL:P3D
CALSCALE:GREGORIAN
BEGIN:VEVENT
DTSTART:20111119T140000Z
DTEND:20111119T200000Z
X-MICROSOFT-CDO-ALLDAYEVENT:FALSE
SUMMARY:Home for the Holidays Bazaar Sponsored by Cafe' 99 and La Boutique
DESCRIPTION:Home Based Business Home for the Holiday's Bazaar\n\n\n\nClick Here for Flyer
X-ALT-DESC;FMTTYPE=text/html:Home Based Business Home for the Holiday&#39\;s Bazaar<br />\n<br />\n<a href="http://cloud.chambermaster.com/userfiles/UserFiles/chambers/111/File/HomefortheHoildaysFlyer2.jpg">Click Here for Flyer</a>
LOCATION:Cafe'99 S. Scales Downtown Reidsville
UID:e.111.2085
SEQUENCE:3
DTSTAMP:20260421T193002Z
URL:https://business.reidsvillechamber.org/events/details/home-for-the-holidays-bazaar-sponsored-by-cafe-99-and-la-boutique-11-19-2011-2085
END:VEVENT

END:VCALENDAR
