BEGIN:VCALENDAR
VERSION:2.0
PRODID:-//ChamberMaster//Event Calendar 2.0//EN
METHOD:PUBLISH
X-PUBLISHED-TTL:P3D
REFRESH-INTERVAL:P3D
CALSCALE:GREGORIAN
BEGIN:VEVENT
DTSTART:20251111T223000Z
DTEND:20251112T000000Z
X-MICROSOFT-CDO-ALLDAYEVENT:FALSE
SUMMARY:Hope for the Holidays
DESCRIPTION:The holiday season is not always merry and bright. Yet even in the quiet or difficult moments\, hope can shine through. The Grief Services Department of Ancora Compassionate Care would like to invite you to our annual Hope for the Holidays event. We will discuss ways to cope with grief and find hope this holiday season. Light finger foods will be served. Please RSVP to Christin Hunnicutt by 11/7/25\; chunnicutt@ancoracc.org or (336) 427-9022
X-ALT-DESC;FMTTYPE=text/html:The holiday season is not always merry and bright. Yet even in the quiet or difficult moments\, hope can shine through. The Grief Services Department of Ancora Compassionate Care would like to invite you to our annual Hope for the Holidays event. We will discuss ways to cope with grief and find hope this holiday season. Light finger foods will be served. Please RSVP to Christin Hunnicutt by 11/7/25\; chunnicutt@ancoracc.org or (336) 427-9022
LOCATION:2150 NC Hwy 65\, Reidsville\, NC 27320 Gibson House Community Room
UID:e.111.11342
SEQUENCE:3
DTSTAMP:20260422T103221Z
URL:https://business.reidsvillechamber.org/events/details/hope-for-the-holidays-11342
END:VEVENT

END:VCALENDAR
