BEGIN:VCALENDAR
VERSION:2.0
PRODID:-//ChamberMaster//Event Calendar 2.0//EN
METHOD:PUBLISH
X-PUBLISHED-TTL:P3D
REFRESH-INTERVAL:P3D
CALSCALE:GREGORIAN
BEGIN:VEVENT
DTSTART:20141115T233000Z
DTEND:20141116T020000Z
X-MICROSOFT-CDO-ALLDAYEVENT:FALSE
SUMMARY:Hospice of Rockingham County's 3rd Annual Comedy Dinner
DESCRIPTION:Hospice of Rockingham County will host its 3rd Annual Comedy Dinner on November 15th at 6:30pm at First Presbyterian Church in Eden\, NC. For 2014\, HRC is featuring award-winning storyteller\, comedian\, motivational speaker and author\, Kelly Swanson. She will present her hilarious and motivating one-woman show ?Who Hijacked My Fairy Tale?? Her wacky cast of southern characters have charmed audiences from coast to coast\, from convention halls to cruise ships. Proceeds from the event will help offset the cost of providing hospice care to uninsured and underinsured patients.
X-ALT-DESC;FMTTYPE=text/html:Hospice of Rockingham County will host its 3rd Annual Comedy Dinner on November 15th at 6:30pm at First Presbyterian Church in Eden\, NC. For 2014\, HRC is featuring award-winning storyteller\, comedian\, motivational speaker and author\, Kelly Swanson. She will present her hilarious and motivating one-woman show ?Who Hijacked My Fairy Tale?? Her wacky cast of southern characters have charmed audiences from coast to coast\, from convention halls to cruise ships. Proceeds from the event will help offset the cost of providing hospice care to uninsured and underinsured patients.
LOCATION:First Presbyterian Church 582 Southwood Drive Eden\, NC 27288
UID:e.111.2909
SEQUENCE:3
DTSTAMP:20260422T162158Z
URL:https://business.reidsvillechamber.org/events/details/hospice-of-rockingham-county-s-3rd-annual-comedy-dinner-11-15-2014-2909
END:VEVENT

END:VCALENDAR
