BEGIN:VCALENDAR
VERSION:2.0
PRODID:-//ChamberMaster//Event Calendar 2.0//EN
METHOD:PUBLISH
X-PUBLISHED-TTL:P3D
REFRESH-INTERVAL:P3D
CALSCALE:GREGORIAN
BEGIN:VEVENT
DTSTART:20100424T133000Z
DTEND:20100424T160000Z
X-MICROSOFT-CDO-ALLDAYEVENT:FALSE
SUMMARY:Hospice ''Walk to Remeber''
DESCRIPTION:Saturday\, April 24th on the  The Hospice Doves invite you to join them for their 4th Annual "Walk to Remember" Benefiting Hospice of Rockingham CountySaturday\, April 24th on the  Upper Piedmont Research Station Walking Trail.  On-site registration will begin at 9:30am and the walk will start at 10:00am.If you have pre-registered\, you do not have to register the morning of the walk.  Participants may walk as individual entries or form a team of friends\, coworkers\, church members\, etc.  Participants are asked to raise or donate a minimum of $25.00.  Refreshments and door prizes available immediately following the walk.   To obtain an entry form or for additional information\, please call Barbara Moore\, Manager of Volunteer Services\, at (336) 427-9026\, extension 402 Proceeds from the "Walk to Remember" help offset the cost of uninsured/underinsured patient care.
X-ALT-DESC;FMTTYPE=text/html:<div><p class="MsoNormal" align="center" style="margin: 0in 0in 0pt\; text-align: center"><b><span style="font-size: 14pt\; mso-bidi-font-size: 12.0pt"><font face="Times New Roman">Saturday\, April 24<sup>th</sup> on the <o:p></o:p></font></span></b></p><p class="MsoNormal" align="center" style="margin: 0in 0in 0pt\; text-align: center"><b><span style="font-size: 14pt\; mso-bidi-font-size: 12.0pt"><o:p><font face="Times New Roman">&nbsp\;</font></o:p></span></b></p><font face="Times New Roman"><b><span style="font-size: 14pt\; mso-bidi-font-size: 12.0pt"><p class="MsoTitle" style="margin: 0in 0in 0pt">The Hospice Doves invite you to join them for their</p><p class="MsoNormal" align="center" style="margin: 0in 0in 0pt\; text-align: center"><b><span style="font-size: 14pt\; mso-bidi-font-size: 12.0pt"><o:p>&nbsp\;</o:p></span></b></p><p class="MsoNormal" align="center" style="margin: 0in 0in 0pt\; text-align: center"><b><span style="font-size: 14pt\; mso-bidi-font-size: 12.0pt">4<sup>th</sup> Annual &ldquo\;Walk to Remember&rdquo\;<o:p></o:p></span></b></p><p class="MsoNormal" align="center" style="margin: 0in 0in 0pt\; text-align: center"><b><span style="font-size: 14pt\; mso-bidi-font-size: 12.0pt"><o:p>&nbsp\;</o:p></span></b></p><p class="MsoNormal" align="center" style="margin: 0in 0in 0pt\; text-align: center"><b><span style="font-size: 14pt\; mso-bidi-font-size: 12.0pt">Benefiting Hospice of <st1:place w:st="on"><st1:placename w:st="on">Rockingham</st1:placename> <st1:placetype w:st="on">County</st1:placetype></st1:place></span></b></p><b><span style="font-size: 14pt\; mso-bidi-font-size: 12.0pt"><st1:place w:st="on"><st1:placetype w:st="on"><p class="MsoNormal" align="center" style="margin: 0in 0in 0pt\; text-align: center"><b><span style="font-size: 14pt\; mso-bidi-font-size: 12.0pt">Saturday\, April 24<sup>th</sup> on the <o:p></o:p></span></b></p></st1:placetype></st1:place></span></b><p class="MsoNormal" align="center" style="margin: 0in 0in 0pt\; text-align: center">&nbsp\;</p><p class="MsoNormal" align="center" style="margin: 0in 0in 0pt\; text-align: center"><font face="Times New Roman"><st1:place w:st="on"><b><span style="font-size: 14pt\; mso-bidi-font-size: 12.0pt">Upper Piedmont</span></b></st1:place><b><span style="font-size: 14pt\; mso-bidi-font-size: 12.0pt"> Research Station Walking Trail.<o:p></o:p></span></b></font></p><p class="MsoNormal" align="center" style="margin: 0in 0in 0pt\; text-align: center"><b><span style="font-size: 14pt\; mso-bidi-font-size: 12.0pt"><o:p><font face="Times New Roman">&nbsp\;</font></o:p></span></b></p><p class="MsoNormal" align="center" style="margin: 0in 0in 0pt\; text-align: center"><b><span style="font-size: 14pt\; mso-bidi-font-size: 12.0pt"><o:p><font face="Times New Roman">&nbsp\;</font></o:p></span></b></p><p class="MsoBodyText" style="margin: 0in 0in 0pt\; line-height: 150%"><span style="font-weight: normal"><font size="3"><font face="Times New Roman">On-site registration will begin at 9:30am and the walk will start at 10:00am.<o:p></o:p></font></font></span></p><p class="MsoBodyText" style="margin: 0in 0in 0pt\; line-height: 150%"><span style="font-weight: normal"><font size="3"><font face="Times New Roman">If you have pre-registered\, you do not have to register the morning of the walk.<span style="mso-spacerun: yes">&nbsp\; </span>Participants may walk as individual entries or form a team of friends\, coworkers\, church members\, etc.<span style="mso-spacerun: yes">&nbsp\; </span>Participants are asked to raise or donate a minimum of $25.00.<span style="mso-spacerun: yes">&nbsp\; </span>Refreshments and door prizes available immediately following the walk.<span style="mso-spacerun: yes">&nbsp\; </span><o:p></o:p></font></font></span></p><p class="MsoBodyText" style="margin: 0in 0in 0pt\; line-height: 150%"><span style="font-weight: normal"><o:p><font face="Times New Roman" size="3">&nbsp\;</font></o:p></span></p><p class="MsoBodyText" style="margin: 0in 0in 0pt\; line-height: 150%"><span style="font-weight: normal"><font face="Times New Roman" size="3">To obtain an entry form or for additional information\, please call Barbara Moore\, Manager of Volunteer Services\, at (336) 427-9026\, extension 402</font></span></p><p class="MsoBodyText" style="margin: 0in 0in 0pt\; line-height: 150%"><o:p><font face="Times New Roman" size="3"><strong>&nbsp\;</strong></font></o:p></p><p class="MsoBodyText" style="margin: 0in 0in 0pt\; line-height: 150%"><strong><font face="Times New Roman" size="3">Proceeds from the &ldquo\;Walk to Remember&rdquo\; help offset the cost of uninsured/underinsured patient care.</font></strong></p></span></b></font></div>
LOCATION:
UID:e.111.1360
SEQUENCE:3
DTSTAMP:20260424T132221Z
URL:https://business.reidsvillechamber.org/events/details/hospice-walk-to-remeber-04-24-2010-1360
END:VEVENT

END:VCALENDAR
