BEGIN:VCALENDAR
VERSION:2.0
PRODID:-//ChamberMaster//Event Calendar 2.0//EN
METHOD:PUBLISH
X-PUBLISHED-TTL:P3D
REFRESH-INTERVAL:P3D
CALSCALE:GREGORIAN
BEGIN:VEVENT
DTSTART;VALUE=DATE:20110826
DTEND;VALUE=DATE:20110827
TRANSP:TRANSPARENT
X-MICROSOFT-CDO-ALLDAYEVENT:TRUE
SUMMARY:Hot Hot Hot ! Shopping Night- Downtown Reidsville\, NC
DESCRIPTION:Shopping Night- Downtown Reidsville\, NC\n\n\n\nLocal Merchants will offer fiery specials\n\n\n\nEnjoy refreshments\, wine and hors d' oeuvres while you shop.\n\n\n\nWatch for food and drink specialsat local restaurants\n\n\n\nThe perfect night for shopping fun and entertainment\n\n\n\nLIVE on stage at Mural Park ......... Minsky Delmonte\n\nA Solo Steel Drum Artist performing from 6-9 PM!
X-ALT-DESC;FMTTYPE=text/html:Shopping Night- Downtown Reidsville\, NC<br />\n<br />\nLocal Merchants will offer fiery specials<br />\n<br />\nEnjoy refreshments\, wine and hors d&#39\; oeuvres while you shop.<br />\n<br />\nWatch for food and drink specialsat local restaurants<br />\n<br />\nThe perfect night for shopping fun and entertainment<br />\n<br />\nLIVE on stage at Mural Park ......... Minsky Delmonte<br />\nA Solo Steel Drum Artist performing from 6-9 PM!
LOCATION:Scales Street\, SW Market Street\, Morehead Street\, Settle Street and Gilmer Street
UID:e.111.1968
SEQUENCE:3
DTSTAMP:20260423T123319Z
URL:https://business.reidsvillechamber.org/events/details/hot-hot-hot-shopping-night-downtown-reidsville-nc-08-26-2011-1968
END:VEVENT

END:VCALENDAR
