BEGIN:VCALENDAR
VERSION:2.0
PRODID:-//ChamberMaster//Event Calendar 2.0//EN
METHOD:PUBLISH
X-PUBLISHED-TTL:P3D
REFRESH-INTERVAL:P3D
CALSCALE:GREGORIAN
BEGIN:VEVENT
DTSTART:20260123T223000Z
DTEND:20260124T013000Z
X-MICROSOFT-CDO-ALLDAYEVENT:FALSE
SUMMARY:Human Trafficking Prevention Month Dinner Event by Project Lost Sheep Inc.
DESCRIPTION:Dinner and presentations relating to human trafficking (Prevention education and actual victim experience).  Free to the public.
X-ALT-DESC;FMTTYPE=text/html:<span style="font-size:14px"><span style="font-family:comic sans ms">Dinner and presentations relating to human trafficking (Prevention education and actual victim experience).&nbsp\; Free to the public.</span></span>
LOCATION:Oakhaven 1434 Dibrell Road Pelham\, NC. 27311
UID:e.111.11358
SEQUENCE:3
DTSTAMP:20260420T143714Z
URL:https://business.reidsvillechamber.org/events/details/human-trafficking-prevention-month-dinner-event-by-project-lost-sheep-inc-11358
END:VEVENT

END:VCALENDAR
