BEGIN:VCALENDAR
VERSION:2.0
PRODID:-//ChamberMaster//Event Calendar 2.0//EN
METHOD:PUBLISH
X-PUBLISHED-TTL:P3D
REFRESH-INTERVAL:P3D
CALSCALE:GREGORIAN
BEGIN:VEVENT
DTSTART:20110714T213000Z
DTEND:20110714T230000Z
X-MICROSOFT-CDO-ALLDAYEVENT:FALSE
SUMMARY:Ice Cream Social
DESCRIPTION:Click Here  to see flyer for more information.
X-ALT-DESC;FMTTYPE=text/html:<p style="text-align: center">\n	<a href="http://cloud.chambermaster.com/userfiles/UserFiles/chambers/111/File/Ice%20Cream%20Social%20Flyer%201.docx">Click Here</a>&nbsp\;<span style="font-size: 16px"><span style="font-family: tahoma"> </span><span style="font-family: verdana">to see flyer for more information.</span></span></p>\n
LOCATION:The Penn House 324 Maple Ave. Reidsville\, N.C.
UID:e.111.1575
SEQUENCE:3
DTSTAMP:20260423T134523Z
URL:https://business.reidsvillechamber.org/events/details/ice-cream-social-07-14-2011-1575
END:VEVENT

END:VCALENDAR
