BEGIN:VCALENDAR
VERSION:2.0
PRODID:-//ChamberMaster//Event Calendar 2.0//EN
METHOD:PUBLISH
X-PUBLISHED-TTL:P3D
REFRESH-INTERVAL:P3D
CALSCALE:GREGORIAN
BEGIN:VEVENT
DTSTART:20150210T140000Z
DTEND:20150210T180000Z
X-MICROSOFT-CDO-ALLDAYEVENT:FALSE
SUMMARY:Industrial Sewing Class
DESCRIPTION:Rockingham Community College will be offering an Industrial Sewing Class at the Mayodan Career Center beginning on February 10\, 2015. The class will meet on Monday\, Tuesday\, and Wednesday from 9:00AM-1:00PM\, and will end on February 19\, 2015. The cost of the class is $70.00.\n\n\n\nThere are companies that are interested in interviewing candidates who complete the class!
X-ALT-DESC;FMTTYPE=text/html:<div style="text-align: center\;">Rockingham Community College will be offering an Industrial Sewing Class at the Mayodan Career Center beginning on February 10\, 2015. The class will meet on Monday\, Tuesday\, and Wednesday from 9:00AM-1:00PM\, and will end on February 19\, 2015. The cost of the class is $70.00.<br />\n<br />\nThere are companies that are interested in interviewing candidates who complete the class!</div>\n
LOCATION:Mayodan Career Center 6625 Hwy 135 Mayodan\, NC 27027
UID:e.111.3030
SEQUENCE:3
DTSTAMP:20260422T103042Z
URL:https://business.reidsvillechamber.org/events/details/industrial-sewing-class-02-10-2015-3030
END:VEVENT

END:VCALENDAR
