BEGIN:VCALENDAR
VERSION:2.0
PRODID:-//ChamberMaster//Event Calendar 2.0//EN
METHOD:PUBLISH
X-PUBLISHED-TTL:P3D
REFRESH-INTERVAL:P3D
CALSCALE:GREGORIAN
BEGIN:VEVENT
DTSTART;VALUE=DATE:20150101
DTEND;VALUE=DATE:20150201
TRANSP:TRANSPARENT
X-MICROSOFT-CDO-ALLDAYEVENT:TRUE
SUMMARY:January Blood Drive Schedule
DESCRIPTION:January Blood Drive Schedule
X-ALT-DESC;FMTTYPE=text/html:<div style="text-align: center\;"><a href="http://cloud.chambermaster.com/userfiles/UserFiles/chambers/111/File/january2015blooddrive.doc">January Blood Drive Schedule</a></div>\n
LOCATION:
UID:e.111.2992
SEQUENCE:3
DTSTAMP:20260422T125208Z
URL:https://business.reidsvillechamber.org/events/details/january-blood-drive-schedule-01-01-2015-2992
END:VEVENT

END:VCALENDAR
