BEGIN:VCALENDAR
VERSION:2.0
PRODID:-//ChamberMaster//Event Calendar 2.0//EN
METHOD:PUBLISH
X-PUBLISHED-TTL:P3D
REFRESH-INTERVAL:P3D
CALSCALE:GREGORIAN
BEGIN:VEVENT
DTSTART:20100612T140000Z
DTEND:20100612T160000Z
X-MICROSOFT-CDO-ALLDAYEVENT:FALSE
SUMMARY:Jewelry Earring Class
DESCRIPTION:EARRING CLASS with Tena Isaacs \nSummertime is all about "fresh & fun" and these 3 pairs of earrings will be just what your summer wardrobe needs! Create three pair of earrings using hammered metal\, chain\, glass beads and more. Fun techniques to learn! Ages 12-Adult.
X-ALT-DESC;FMTTYPE=text/html:<div>EARRING CLASS with Tena Isaacs <br />Summertime is all about &quot\;fresh &amp\; fun&quot\; and these 3 pairs of earrings will be just what your summer wardrobe needs! Create three pair of earrings using hammered metal\, chain\, glass beads and more. Fun techniques to learn! Ages 12-Adult.</div>
LOCATION:Upstairs studio at Everyday Art Gallery\, 209 SW Market Street\, Downtown Reidsville
UID:e.111.1465
SEQUENCE:3
DTSTAMP:20260424T100848Z
URL:https://business.reidsvillechamber.org/events/details/jewelry-earring-class-06-12-2010-1465
END:VEVENT

END:VCALENDAR
