BEGIN:VCALENDAR
VERSION:2.0
PRODID:-//ChamberMaster//Event Calendar 2.0//EN
METHOD:PUBLISH
X-PUBLISHED-TTL:P3D
REFRESH-INTERVAL:P3D
CALSCALE:GREGORIAN
BEGIN:VEVENT
DTSTART:20090827T130000Z
DTEND:20090828T030000Z
X-MICROSOFT-CDO-ALLDAYEVENT:FALSE
SUMMARY:Jewelry & Purse Sale
DESCRIPTION:Sterling\, Purses & More\, Inc.\, presents a huge JEWELRY & PURSE ONE DAY ONLY SALE.\nJewelry\, Watches\, Luggase\, Men's stuff\, Kid's stuff.  $100 worth of giveaways!  Register at the sale.  Proceeds to benefit the Rockingham County United Way.
X-ALT-DESC;FMTTYPE=text/html:Sterling\, Purses & More\, Inc.\, presents a huge JEWELRY & PURSE ONE DAY ONLY SALE.\nJewelry\, Watches\, Luggase\, Men's stuff\, Kid's stuff.  $100 worth of giveaways!  Register at the sale.  Proceeds to benefit the Rockingham County United Way.
LOCATION:Annie Penn Hospital Cafeteria 618 S. Main Street\, Reidsville\, NC
UID:e.111.1209
SEQUENCE:3
DTSTAMP:20260425T024221Z
URL:https://business.reidsvillechamber.org/events/details/jewelry-purse-sale-08-27-2009-1209
END:VEVENT

END:VCALENDAR
