BEGIN:VCALENDAR
VERSION:2.0
PRODID:-//ChamberMaster//Event Calendar 2.0//EN
METHOD:PUBLISH
X-PUBLISHED-TTL:P3D
REFRESH-INTERVAL:P3D
CALSCALE:GREGORIAN
BEGIN:VEVENT
DTSTART:20100308T180000Z
DTEND:20100308T220000Z
X-MICROSOFT-CDO-ALLDAYEVENT:FALSE
SUMMARY:JOBS Commission Event hosted by Lt. Governor Walter Dalton
DESCRIPTION:JOBS Commission Event  - Joining Our Businesses and Schools CommissionCreated by the General Assembly with the intent of strengthening the ties between public education and local economic needs\, this event will be held for the Citizens and Community Leaders of the Piedmont-Triad Region.  Monday\, March 8\, 20101:00-5:00 p.m.Embassy Suites Greensboro-Airport 204 Centreport DriveGreensboro\, NC  Please RSVP to Jamie AlmondAdministrative AssistantOffice of the Lt. Governor310 N Blount St.Raleigh\, NC 27601919-715-1120 (office)919-733-6595 (fax)
X-ALT-DESC;FMTTYPE=text/html:<div><div style="text-align: center"><span style="font-size: medium">JOBS Commission Event&nbsp\; - Joining Our Businesses and Schools Commission</span></div><div style="text-align: center">Created by the General Assembly with the intent of strengthening the ties between public education and local economic needs\, this event will be held for the Citizens and Community Leaders of the Piedmont-Triad Region.&nbsp\;</div><div style="text-align: center">&nbsp\;</div><div style="text-align: center">Monday\, March 8\, 2010</div><div style="text-align: center">1:00-5:00 p.m.</div><div style="text-align: center">Embassy Suites Greensboro-Airport 204 Centreport Drive</div><div style="text-align: center">Greensboro\, NC&nbsp\;</div><div style="">&nbsp\;</div><address><span style="font-size: medium"><span style=""><tt><small>Please RSVP to&nbsp\;</small></tt></span></span></address><div style=""><address><span style="font-size: medium"><span style="font-family: Courier New"><tt><small>Jamie Almond</small></tt></span></span><o:p></o:p></address><address><span style="font-size: medium"><span style="font-family: Courier New"><tt><small>Administrative Assistant</small></tt></span></span><span style="font-size: 10pt\; font-family: 'Arial'\,'sans-serif'"><o:p></o:p></span></address><address><span style="font-size: medium"><span style="font-family: Courier New"><tt><small>Office of the Lt. Governor</small></tt></span></span><span style="font-size: 12pt\; font-family: 'Times New Roman'\,'serif'"><o:p></o:p></span></address><address><span style="font-size: medium"><span style="font-family: Courier New"><tt><small>310 N Blount St.</small></tt></span></span><o:p></o:p></address><address><span style="font-size: medium"><span style="font-family: Courier New"><tt><small>Raleigh\, NC 27601</small></tt></span></span><o:p></o:p></address><address><span style="font-size: medium"><span style="font-family: Courier New"><tt><small>919-715-1120 (office)</small></tt></span></span><o:p></o:p></address><address><span style="font-size: medium"><span style="font-family: Courier New"><tt><small>919-733-6595 (fax)</small></tt></span></span><o:p></o:p></address></div><p class="MsoNormal"><o:p>&nbsp\;</o:p></p></div>
LOCATION:
UID:e.111.1340
SEQUENCE:3
DTSTAMP:20260424T153123Z
URL:https://business.reidsvillechamber.org/events/details/jobs-commission-event-hosted-by-lt-governor-walter-dalton-03-08-2010-1340
END:VEVENT

END:VCALENDAR
