BEGIN:VCALENDAR
VERSION:2.0
PRODID:-//ChamberMaster//Event Calendar 2.0//EN
METHOD:PUBLISH
X-PUBLISHED-TTL:P3D
REFRESH-INTERVAL:P3D
CALSCALE:GREGORIAN
BEGIN:VEVENT
DTSTART:20120414T110000Z
DTEND:20120414T110000Z
X-MICROSOFT-CDO-ALLDAYEVENT:FALSE
SUMMARY:Junk In Your Trunk
DESCRIPTION:7:00 am- until.\n\n	You must register in advance in order to participate. \n\n	There is a $10 registration fee\, which must be paid before setup.  You may setup two tables for every\n\n	$10 registration fee.\n\n	This event is open to churches\, nonprofits and individuals.\n\n	No dealers allowed!\n\n	No selling from your vehicles. \n\n	You must supply your own table.\n\n	You must contact Judy in advance about\n\n	selling baked goods or foods.\n\n	Space is limited! \n\n	Must Register by April 9th\, 2012\n\n	 For questions\, email Judy Yarbrough at jyarbrough@ci.reidsville.nc.usor call 336-349-1099.  \n\n	 \n\n	SET-UP DOES NOT BEGIN UNTIL 6:30 AM.  IF YOU SET-UP BEFORE THAT TIME YOU WILL HAVE TO LEAVE WITHOUT SELLING!!!!! THIS WILL BE STRICTLY ENFORCED!!!
X-ALT-DESC;FMTTYPE=text/html:<p style="text-align: center">\n	<strong><span style="font-size: 14pt"><span style="color: #993300"><span style="font-family: arial\,sans-serif">7:00 am- until.<br />\n	You must register in advance in order to participate.&nbsp\;<br />\n	There is a $10 registration fee\, which must be paid before setup.&nbsp\; You may setup two tables for every<br />\n	$10 registration fee.<br />\n	This event is open to churches\, nonprofits and individuals.<br />\n	No dealers allowed!<br />\n	No selling from your vehicles.&nbsp\;<br />\n	You must supply your own table.<br />\n	You must contact Judy in advance about<br />\n	selling baked goods or foods.<br />\n	Space is limited!&nbsp\;<br />\n	Must Register by&nbsp\;April 9th\, 2012<br />\n	&nbsp\;For questions\, email Judy Yarbrough at </span></span></span></strong><strong><span style="font-size: 14pt"><span style="color: blue"><span style="font-family: arial\,sans-serif"></span></span></span></strong><strong><span style="font-size: 14pt"><span style="color: blue"><span style="font-family: arial\,sans-serif"><a href="mailto:jyarbrough@ci.reidsville.nc.us"><span style="color: #0000ff">jyarbrough@ci.reidsville.nc.us</span></a></span></span></span></strong><strong><span style="font-size: 14pt"><span style="color: #993300"><span style="font-family: arial\,sans-serif">or</span></span></span></strong><strong><span style="font-size: 14pt"><span style="color: #993300"><span style="font-family: arial\,sans-serif"> call 336-349-1099.&nbsp\; </span></span></span></strong><br />\n	&nbsp\;<br />\n	<strong><span style="font-size: 14pt"><span style="color: #993300"><span style="font-family: arial black\,sans-serif">SET-UP DOES NOT BEGIN UNTIL 6:30 AM.&nbsp\; IF YOU SET-UP BEFORE THAT TIME YOU WILL HAVE TO LEAVE WITHOUT SELLING!!!!! THIS WILL BE STRICTLY ENFORCED!!!</span></span></span></strong><br />\n	&nbsp\;</p>\n
LOCATION:
UID:e.111.2202
SEQUENCE:3
DTSTAMP:20260421T130255Z
URL:https://business.reidsvillechamber.org/events/details/junk-in-your-trunk-04-14-2012-2202
END:VEVENT

END:VCALENDAR
